BEGIN:VCALENDAR
PRODID:NingEventWidget-v1
VERSION:2.0
METHOD:PUBLISH
BEGIN:VTIMEZONE
TZID:Pacific/Midway
X-LIC-LOCATION:Pacific/Midway
BEGIN:STANDARD
TZOFFSETFROM:-1100
TZOFFSETTO:-1100
TZNAME:SST
DTSTART:19700101T000000
END:STANDARD
END:VTIMEZONE
BEGIN:VEVENT
UID:3646443:Event:57241
DTSTAMP:20260423T220341Z
SUMMARY:The Grey Bruce Agriculture & Culinary Assoc 2014 Field to Fork
  Gala
DESCRIPTION:Our 3rd Gala will be held\nThursday, October 23, 2014\n\nW
 estwind Hall, Cedar Rail Campground, Scone\n\nDoors Open at 5:30 pm. C
 ocktails at 6:00 pm.\nTickets available at 1-888-396-4591.\nCost is $5
 0.00 for this fabulous event!\n\nLocal chefs showcase their very best 
 at the 2014 ACA Field to Fork dinner.\nDelicious dishes – from appet
 izers to desserts - are created using ingredients grown and raised acr
 oss Grey Bruce.\nCome with friends to meet the chefs, the producers, a
 nd spirit makers that put Grey Bruce food and drink on the map.\nOur C
 ulinary evening will also include opportunities to win and bid on culi
 nary experiences from Grey and Bruce Counties\n\nFor more information 
 visit https://ontag.farms.com/events/the-grey-bruce-agriculture-culina
 ry-assoc-2014-field-to-fork-gala
DTSTART;TZID=Pacific/Midway:20141023T173000
DTEND;TZID=Pacific/Midway:20141023T210000
CATEGORIES:field, to, fork, dinner
LOCATION:Westwind Hall, Cedar Rail Campground
WEBSITE:http://www.greybruceaca.com/index.php/aca-events
URL:http://www.greybruceaca.com/index.php/aca-events
CONTACT:1-888-396-4591
ORGANIZER:Grey Bruce Field to Fork
ATTACH;FMTTYPE="image/jpeg":http://storage.ning.com/topology/rest/1.0/
 file/get/1091527417?profile=original
ATTENDEE;ROLE=REQ-PARTICIPANT;PARTSTAT=ACCEPTED;RSVP=TRUE;CN="OntAG Ad
 min":https://ontag.farms.com/profile/OntAGAdmin
END:VEVENT
END:VCALENDAR
