BEGIN:VCALENDAR
PRODID:NingEventWidget-v1
VERSION:2.0
METHOD:PUBLISH
BEGIN:VTIMEZONE
TZID:Pacific/Midway
X-LIC-LOCATION:Pacific/Midway
BEGIN:STANDARD
TZOFFSETFROM:-1100
TZOFFSETTO:-1100
TZNAME:SST
DTSTART:19700101T000000
END:STANDARD
END:VTIMEZONE
BEGIN:VEVENT
UID:3646443:Event:112779
DTSTAMP:20260423T091034Z
SUMMARY:The International Plowing Match & Rural Expo will be held in D
 ufferin County – Sept 19 – 23, 2023
DESCRIPTION:The International Plowing Match and Rural Expo (IPM) was c
 reated by the Ontario Plowmen's Association in 1913 to showcase farmer
 s' passion for the soil, agriculture, and rural living. This is the la
 rgest event of its kind in Canada, attracting people from all over the
  world. Historical attendance numbers exceed 60,000 people over the fi
 ve-day event.\r\nThe International Plowing Match and Rural Expo (IPM) 
 is happening this September in the Townships of Amaranth and Grand Val
 ley within Dufferin County!!\r\nFrom September 19 to 23, local farmers
  of Dufferin County open their fields, transforming them into a large 
 exciting rural expo which includes a huge, tented city with virtually 
 non-stop entertaining activities and plowing competitions!   Attractio
 ns: ----------------\r\n\r\nfabulous food\r\nlively music\r\nanimal ex
 hibits\r\nlocal vendors of craftsmen and artisans\r\nimpressive farmin
 g demonstrations\r\nplowing competition\r\nhundreds of interesting dis
 plays and exhibitors\r\na rodeo that will keep you on the edge of your
  seat\r\n\r\nWe look forward to celebrating our beautiful Heartland an
 d good times with you!   Social Media Facebook: International Plowi
 ng Match and Rural Expo 2023 Instagram: ipm2023\n\nFor more informati
 on visit https://ontag.farms.com/events/the-international-plowing-matc
 h-rural-expo-will-be-held-in-duffer
DTSTART;TZID=Pacific/Midway:20230919T083000
DTEND;TZID=Pacific/Midway:20230923T170000
CATEGORIES:international, plowing, match, "&amp", rural, expo
LOCATION:Bowling Green
WEBSITE:https://www.plowingmatch.org/ipm2023/&amp;amp;nbsp;.
URL:https://www.plowingmatch.org/ipm2023/&amp;amp;nbsp;.
CONTACT:519-767-2928 / 1-800-661-7569
ORGANIZER:Ontario Plowmen's Association
ATTACH;FMTTYPE="image/jpeg":https://storage.ning.com/topology/rest/1.0
 /file/get/12036234281?profile=original
ATTENDEE;ROLE=REQ-PARTICIPANT;PARTSTAT=ACCEPTED;RSVP=TRUE;CN="OntAG Ad
 min":https://ontag.farms.com/profile/OntAGAdmin
END:VEVENT
END:VCALENDAR
