BEGIN:VCALENDAR
PRODID:NingEventWidget-v1
VERSION:2.0
METHOD:PUBLISH
BEGIN:VTIMEZONE
TZID:Pacific/Midway
X-LIC-LOCATION:Pacific/Midway
BEGIN:STANDARD
TZOFFSETFROM:-1100
TZOFFSETTO:-1100
TZNAME:SST
DTSTART:19700101T000000
END:STANDARD
END:VTIMEZONE
BEGIN:VEVENT
UID:3646443:Event:72896
DTSTAMP:20260422T172144Z
SUMMARY:The London Farm Show
DESCRIPTION:The LondonÂ Farm Show - Celebrating 80 Years & The Largest
  Indoor Farm Show in EasternÂ CanadaÂ \r\nBringing Leaders Together -Â
  Showcasing The Latest Industry Trends &NewestÂ Technology\r\nWhat To 
 Expect At TheÂ Show:\r\n\r\n\r\nInteractiveÂ &Â EducationalÂ Seminars\
 r\n\r\n\r\n320+Â Exhibitors\r\n\r\n\r\nDates, Times &Â Locations:\r\n\
 r\n\r\nWed, MarÂ 7 @ 9AMÂ -Â 5PM\r\n\r\n\r\nThur, MarÂ 8 @ 9AMÂ -Â 5PM
 \r\n\r\n\r\nFri, MarÂ 9 @ 9AMÂ - 4PM\r\n\r\nFree Shuttle ServiceÂ avai
 lable from the Western Fair District & BMO parking lots to showÂ entra
 ncesÂ \r\n\n\nFor more information visit https://ontag.farms.com/event
 s/the-london-farm-show
DTSTART;TZID=Pacific/Midway:20180307T090000
DTEND;TZID=Pacific/Midway:20180309T160000
CATEGORIES:farms, show
LOCATION:Metroland Media Agriplex
WEBSITE:http://www.westernfairdistrict.com/london-farm-show
URL:http://www.westernfairdistrict.com/london-farm-show
CONTACT:
ORGANIZER;CN="OntAG Admin":https://ontag.farms.com/profile/OntAGAdmin
ATTACH;FMTTYPE="image/jpeg":
ATTENDEE;ROLE=REQ-PARTICIPANT;PARTSTAT=ACCEPTED;RSVP=TRUE;CN="OntAG Ad
 min":https://ontag.farms.com/profile/OntAGAdmin
END:VEVENT
END:VCALENDAR
