BEGIN:VCALENDAR
PRODID:NingEventWidget-v1
VERSION:2.0
METHOD:PUBLISH
BEGIN:VTIMEZONE
TZID:Pacific/Midway
X-LIC-LOCATION:Pacific/Midway
BEGIN:STANDARD
TZOFFSETFROM:-1100
TZOFFSETTO:-1100
TZNAME:SST
DTSTART:19700101T000000
END:STANDARD
END:VTIMEZONE
BEGIN:VEVENT
UID:3646443:Event:52732
DTSTAMP:20260420T114541Z
SUMMARY:The London Poultry Show
DESCRIPTION:\n The 2014 London Poultry Show\n \npresented by:   \n
 \nThousands of poultry farmers, industry partners and suppliers flock 
 to this event, now in its 57th year.\nThe two-day show is a blend of t
 rade show and professional development featuring networking opportunit
 ies, a wide array of products & services, guest presentations and info
 rmative seminars. With 75,000 square feet of exhibit space, 35,000 att
 endees and more than 160 booths to visit, the London Poultry Show is r
 ecognized as a must-do event for anyone associated with this important
  agri-business. The London Poultry Show continues to provide companies
  with an opportunity to display the latest in the poultry technology, 
 equipment and feed.\n\nThe Poultry Show is co-sponsored by The Poultry
  Industry Council: \n\nFor more information visit https://ontag.farms
 .com/events/the-london-poultry-show-1
DTSTART;TZID=Pacific/Midway:20140409T000000
DTEND;TZID=Pacific/Midway:20140410T235900
CATEGORIES:poultry, show
LOCATION:Western Fair District
WEBSITE:http://www.westernfairdistrict.com/events/attend/2014Poultry_S
 how
URL:http://www.westernfairdistrict.com/events/attend/2014Poultry_Show
CONTACT:
ORGANIZER:Western Fair District
ATTACH;FMTTYPE="image/jpeg":http://storage.ning.com/topology/rest/1.0/
 file/get/1091515649?profile=original
ATTENDEE;ROLE=REQ-PARTICIPANT;PARTSTAT=ACCEPTED;RSVP=TRUE;CN="OntAG Ad
 min":https://ontag.farms.com/profile/OntAGAdmin
END:VEVENT
END:VCALENDAR
