BEGIN:VCALENDAR
PRODID:NingEventWidget-v1
VERSION:2.0
METHOD:PUBLISH
BEGIN:VTIMEZONE
TZID:Pacific/Midway
X-LIC-LOCATION:Pacific/Midway
BEGIN:STANDARD
TZOFFSETFROM:-1100
TZOFFSETTO:-1100
TZNAME:SST
DTSTART:19700101T000000
END:STANDARD
END:VTIMEZONE
BEGIN:VEVENT
UID:3646443:Event:31640
DTSTAMP:20260420T072752Z
SUMMARY:The London Poultry Show
DESCRIPTION:Poultry Industry Conference and Exhibition\n\npresented by
 :   \n\nThousands of poultry farmers, industry partners and supplier
 s flocked to this event, now in its 55th year.\nThe two-day show is a 
 blend of trade show and professional development featuring networking 
 opportunities, a wide array of products & services, guest presentation
 s and informative seminars. With 57,000 square feet of exhibit space a
 nd more than 160 booths to visit, the London Poultry Show is recognize
 d as a must-do event for anyone associated with this important agri-bu
 siness.\n\nThe Poultry Show is co-sponsored by The Poultry Industry Co
 uncil: \n\nFor more information visit https://ontag.farms.com/events/
 the-london-poultry-show
DTSTART;TZID=Pacific/Midway:20120411T000000
DTEND;TZID=Pacific/Midway:20120412T235900
CATEGORIES:poultry, show
LOCATION:Western Fair District
WEBSITE:http://www.westernfairdistrict.com/events/attend/the_london_po
 ultry_show
URL:http://www.westernfairdistrict.com/events/attend/the_london_poultr
 y_show
CONTACT:
ORGANIZER:Western Fair District
ATTACH;FMTTYPE="image/jpeg":http://storage.ning.com/topology/rest/1.0/
 file/get/1091515649?profile=original
ATTENDEE;ROLE=REQ-PARTICIPANT;PARTSTAT=ACCEPTED;RSVP=TRUE;CN="OntAG Ad
 min":https://ontag.farms.com/profile/OntAGAdmin
END:VEVENT
END:VCALENDAR
