BEGIN:VCALENDAR
PRODID:NingEventWidget-v1
VERSION:2.0
METHOD:PUBLISH
BEGIN:VTIMEZONE
TZID:Pacific/Midway
X-LIC-LOCATION:Pacific/Midway
BEGIN:STANDARD
TZOFFSETFROM:-1100
TZOFFSETTO:-1100
TZNAME:SST
DTSTART:19700101T000000
END:STANDARD
END:VTIMEZONE
BEGIN:VEVENT
UID:3646443:Event:115467
DTSTAMP:20260422T172059Z
SUMMARY:The National Poultry Show
DESCRIPTION:The National Poultry Show, Presented in Partnership with t
 he Poultry Industry Council.\r\nSAVE THE DATE!\r\nThe National Poultry
  Show provides exceptional networking opportunities for poultry produc
 ers and industry professionals in Ontario.\r\nThe National Poultry Sho
 w has grown to be one of North America’s premier poultry trade shows
 , bringing together the best in the poultry industry with the latest i
 n poultry technology, innovations and education.\r\nThe show continues
  to be a great partnership between (PIC) and (WFA), and has given back
  to the industry and producers since 1957. A portion of the revenues f
 rom this event help PIC create educational resources, and programs for
  the Ontario poultry sector.\n\nFor more information visit https://ont
 ag.farms.com/events/the-national-poultry-show
DTSTART;TZID=Pacific/Midway:20260204T210000
DTEND;TZID=Pacific/Midway:20260205T170000
CATEGORIES:poultry, show
LOCATION:Metroland Media Agriplex
WEBSITE:https://www.nationalpoultryshow.com/
URL:https://www.nationalpoultryshow.com/
CONTACT:
ORGANIZER:Poultry Industry Council
ATTACH;FMTTYPE="image/jpeg":https://storage.ning.com/topology/rest/1.0
 /file/get/13723607092?profile=original
ATTENDEE;ROLE=REQ-PARTICIPANT;PARTSTAT=ACCEPTED;RSVP=TRUE;CN="OntAG Ad
 min":https://ontag.farms.com/profile/OntAGAdmin
END:VEVENT
END:VCALENDAR
