BEGIN:VCALENDAR
PRODID:NingEventWidget-v1
VERSION:2.0
METHOD:PUBLISH
BEGIN:VTIMEZONE
TZID:Pacific/Midway
X-LIC-LOCATION:Pacific/Midway
BEGIN:STANDARD
TZOFFSETFROM:-1100
TZOFFSETTO:-1100
TZNAME:SST
DTSTART:19700101T000000
END:STANDARD
END:VTIMEZONE
BEGIN:VEVENT
UID:3646443:Event:115669
DTSTAMP:20260422T203319Z
SUMMARY:The Ontario Fruit & Vegetable Convention
DESCRIPTION:Tradeshow | Education | Networking All things horticulture
  | All under 1 roof\r\n\r\nThe Ontario Fruit and Vegetable Convention 
 (OFVC) is an annual 2-day gathering of horticultural crop producers in
 volved in the production of fruits and vegetables. The convention is a
 ttended by a cross section of the horticultural sector including gover
 nment, industry, business, consultants, producers, associations, resea
 rchers and educators from across Canada and features a great lineup of
  horticultural experts, educational sessions, trade show exhibitors an
 d great networking opportunities. If you grow, this is one event you c
 an't afford to miss!  Click here to view prospectus \n\nFor more infor
 mation visit https://ontag.farms.com/events/the-ontario-fruit-vegetabl
 e-convention
DTSTART;TZID=Pacific/Midway:20260218T090000
DTEND;TZID=Pacific/Midway:20260219T180000
CATEGORIES:convention
LOCATION:Niagara Falls Convention Centre
WEBSITE:https://www.ofvc.ca/
URL:https://www.ofvc.ca/
CONTACT:Glenna Cairnie, glenna@ofvc.ca , 905-966-3338
ORGANIZER:Ontario Fruit and Vegetable Convention (OFVC)
ATTACH;FMTTYPE="image/jpeg":https://storage.ning.com/topology/rest/1.0
 /file/get/13723610061?profile=original
ATTENDEE;ROLE=REQ-PARTICIPANT;PARTSTAT=ACCEPTED;RSVP=TRUE;CN="OntAG Ad
 min":https://ontag.farms.com/profile/OntAGAdmin
END:VEVENT
END:VCALENDAR
