BEGIN:VCALENDAR
PRODID:NingEventWidget-v1
VERSION:2.0
METHOD:PUBLISH
BEGIN:VTIMEZONE
TZID:Pacific/Midway
X-LIC-LOCATION:Pacific/Midway
BEGIN:STANDARD
TZOFFSETFROM:-1100
TZOFFSETTO:-1100
TZNAME:SST
DTSTART:19700101T000000
END:STANDARD
END:VTIMEZONE
BEGIN:VEVENT
UID:3646443:Event:61033
DTSTAMP:20260421T163825Z
SUMMARY:The Pirate Festival
DESCRIPTION:Gold, Pirate Honour & the Code\nJoin us for exciting – m
 ystery filled days in the Village of Dry Bluffs. The Pirates are rejoi
 cing in Return of the Tide-Indeed-Economy has never been better! The P
 irates have returned to full Pirating! A mysterious Pirate arrives, an
 d what of the body that is discovered? And the Code? Will the Pirate C
 rews remain loyal to their captains? Or mutiny!\nEnjoy the privileges 
 that Piracy brings!...Attend the best in Entertainment.\nSaturday Even
 ing presents The Captain’s Keg. An adult event filled with Spectacul
 ar Performances.\n\nFor more information visit https://ontag.farms.com
 /events/the-pirate-festival
DTSTART;TZID=Pacific/Midway:20150801T100000
DTEND;TZID=Pacific/Midway:20150803T180000
CATEGORIES:show
LOCATION:Country Heritage Park
WEBSITE:http://www.thepiratefestival.com/
URL:http://www.thepiratefestival.com/
CONTACT:(866) 518-6106
ORGANIZER;CN="OntAG Admin":https://ontag.farms.com/profile/OntAGAdmin
ATTACH;FMTTYPE="image/jpeg":
ATTENDEE;ROLE=REQ-PARTICIPANT;PARTSTAT=ACCEPTED;RSVP=TRUE;CN="OntAG Ad
 min":https://ontag.farms.com/profile/OntAGAdmin
END:VEVENT
END:VCALENDAR
