BEGIN:VCALENDAR
PRODID:NingEventWidget-v1
VERSION:2.0
METHOD:PUBLISH
BEGIN:VTIMEZONE
TZID:Pacific/Midway
X-LIC-LOCATION:Pacific/Midway
BEGIN:STANDARD
TZOFFSETFROM:-1100
TZOFFSETTO:-1100
TZNAME:SST
DTSTART:19700101T000000
END:STANDARD
END:VTIMEZONE
BEGIN:VEVENT
UID:3646443:Event:106375
DTSTAMP:20260421T162737Z
SUMMARY:The Royal Agricultural Virtual Experience
DESCRIPTION:Experience The Wonders Of Agriculture All Year Round. Jo
 in Us As We Take Canada’s Agricultural Showplace Online. Register 
 Today. View Competition Books. Agriculture Zone. March 23-25. Free R
 egistration. Agri-Food Pavilion.   The Royal Agricultural Virtual Expe
 rience is a unique opportunity to experience the very best in Canadian
  agriculture and food from your laptop, tablet, smart phone or desktop
 . The Royal Pavilion Presented by the Ontario Toyota Dealers Associati
 on features content representing all four pillars of The Royal includi
 ng Equestrian, Agriculture, Culinary and Education. Explore exciting c
 areers in agriculture and food within A Place to Grow Presented by Uni
 versity of Guelph or build your personal brand through Grow Your Skill
 s Presented by RBC Future Launch. Learn all about the future of agricu
 lture and food in the Agriculture Zone Presented by Dairy Farmers of O
 ntario and if you love discovering local food and want to see the best
  of what’s coming from across Ontario than check out Spotlight on Lo
 cal Presented by Metro.  To register for event Please click here\n\nFo
 r more information visit https://ontag.farms.com/events/the-royal-agri
 cultural-virtual-experience
DTSTART;TZID=Pacific/Midway:20210323T090000
DTEND;TZID=Pacific/Midway:20210325T143000
CATEGORIES:virtual, event
LOCATION:online
WEBSITE:https://royalfair.vfairs.com/en/
URL:https://royalfair.vfairs.com/en/
CONTACT:
ORGANIZER:royalfair
ATTACH;FMTTYPE="image/jpeg":https://storage.ning.com/topology/rest/1.0
 /file/get/8674758257?profile=original
ATTENDEE;ROLE=REQ-PARTICIPANT;PARTSTAT=ACCEPTED;RSVP=TRUE;CN="OntAG Ad
 min":https://ontag.farms.com/profile/OntAGAdmin
END:VEVENT
END:VCALENDAR
