BEGIN:VCALENDAR
PRODID:NingEventWidget-v1
VERSION:2.0
METHOD:PUBLISH
BEGIN:VTIMEZONE
TZID:Pacific/Midway
X-LIC-LOCATION:Pacific/Midway
BEGIN:STANDARD
TZOFFSETFROM:-1100
TZOFFSETTO:-1100
TZNAME:SST
DTSTART:19700101T000000
END:STANDARD
END:VTIMEZONE
BEGIN:VEVENT
UID:3646443:Event:73965
DTSTAMP:20260421T134724Z
SUMMARY:The Royal Agricultural Winter Fair
DESCRIPTION:The Royal features over 2,000 agricultural competitions fe
 aturing more than 5,000 animals, artisan cheeses, Ontario wines, gia
 nt vegetables, butter sculpting and more. It really is the best of t
 he best in Canadian agriculture. \n\nFor more information visit https:
 //ontag.farms.com/events/the-royal-agricultural-winter-fair-3
DTSTART;TZID=Pacific/Midway:20181102T000000
DTEND;TZID=Pacific/Midway:20181111T235900
CATEGORIES:agriculture, fair
LOCATION:Exhibition Place
WEBSITE:http://www.royalfair.org/
URL:http://www.royalfair.org/
CONTACT:416-263-3400
ORGANIZER;CN="OntAG Admin":https://ontag.farms.com/profile/OntAGAdmin
ATTACH;FMTTYPE="image/jpeg":http://storage.ning.com/topology/rest/1.0/
 file/get/1091552171?profile=original
ATTENDEE;ROLE=REQ-PARTICIPANT;PARTSTAT=ACCEPTED;RSVP=TRUE;CN="OntAG Ad
 min":https://ontag.farms.com/profile/OntAGAdmin
END:VEVENT
END:VCALENDAR
