BEGIN:VCALENDAR
PRODID:NingEventWidget-v1
VERSION:2.0
METHOD:PUBLISH
BEGIN:VTIMEZONE
TZID:Pacific/Midway
X-LIC-LOCATION:Pacific/Midway
BEGIN:STANDARD
TZOFFSETFROM:-1100
TZOFFSETTO:-1100
TZNAME:SST
DTSTART:19700101T000000
END:STANDARD
END:VTIMEZONE
BEGIN:VEVENT
UID:3646443:Event:75678
DTSTAMP:20260419T172218Z
SUMMARY:The Royal Agricultural Winter Fair
DESCRIPTION:The Royal Agricultural Winter Fair takes place every Novem
 ber in the City of Toronto. Come celebrate the best in agriculture, lo
 cal food, and equestrian competitions from across the country.\r\nThe 
 Royal is the largest combined indoor agricultural fair and internation
 al equestrian competition in the world. It is where Canadian and inter
 national breeders, growers and exhibitors are declared champions and w
 here hundreds of thousands of attendees come to learn, compete, shop a
 nd have a great time with friends and family.\r\nFeature Attractions:\
 r\n\r\nPresident's Choice® Animal Theatre\r\nBurnbrae Farms™ Culina
 ry Academy\r\nPizza Pizza® Petting Farm\r\nNorthern Ontario -The best
  of Ontario's North\r\nAG-tivity Central - Make time for playtime\r\nF
 arm to Table Discovery Zone  \r\n\n\nFor more information visit https:
 //ontag.farms.com/events/the-royal-agricultural-winter-fair-4
DTSTART;TZID=Pacific/Midway:20191101T000000
DTEND;TZID=Pacific/Midway:20191110T235900
CATEGORIES:ag, fair
LOCATION:Exhibition Place
WEBSITE:http://www.royalfair.org/
URL:http://www.royalfair.org/
CONTACT:+1 416 263 3400
ORGANIZER:The Royal Fair
ATTACH;FMTTYPE="image/jpeg":https://storage.ning.com/topology/rest/1.0
 /file/get/1774855719?profile=original
ATTENDEE;ROLE=REQ-PARTICIPANT;PARTSTAT=ACCEPTED;RSVP=TRUE;CN="Ivan Car
 dozo":https://ontag.farms.com/profile/IvanCardozo
ATTENDEE;ROLE=REQ-PARTICIPANT;PARTSTAT=ACCEPTED;RSVP=TRUE;CN="OntAG Ad
 min":https://ontag.farms.com/profile/OntAGAdmin
ATTENDEE;ROLE=REQ-PARTICIPANT;PARTSTAT=TENTATIVE;RSVP=TRUE;CN="Inder M
 ohan Sharma":https://ontag.farms.com/profile/InderMohanSharma
END:VEVENT
END:VCALENDAR
