BEGIN:VCALENDAR
PRODID:NingEventWidget-v1
VERSION:2.0
METHOD:PUBLISH
BEGIN:VTIMEZONE
TZID:Pacific/Midway
X-LIC-LOCATION:Pacific/Midway
BEGIN:STANDARD
TZOFFSETFROM:-1100
TZOFFSETTO:-1100
TZNAME:SST
DTSTART:19700101T000000
END:STANDARD
END:VTIMEZONE
BEGIN:VEVENT
UID:3646443:Event:24193
DTSTAMP:20260422T055831Z
SUMMARY:The Royal Agriculture Winter Fair
DESCRIPTION:The Royal Agricultural Winter Fair is synonymous with agri
 cultural innovation, state-of-the-art technology, health and well-bein
 g and world class competition. Since its inception 89 years ago under 
 the patronage of Queen Elizabeth II, The Royal now attracts more than 
 340,000 visitors to Toronto every year. Will you be here?\nThe Honoura
 ble David C. Onley Lieutenant Governor of Ontario Officially Opens the
  88th Royal\nAgricultural Winter Fair.\n\nMajor Attraction: See What A
 ce of Cakes' Duff Goldman Whipped up at Celebrity Chef Challenge.\nSee
  Who COme Out on TOp at Woof and Hoop extravaganza\nWhat do you get wh
 en you cross Former NHL Hockey Players and Horses?\n\n\nTicket Informa
 tion\nFair HoursFriday, November 4        9 am - 9 pm Saturday,
  November 5    9 am - 9 pm Sunday, November 6      9 am - 8 pm
  Monday, November 7 toSaturday, November 12   9 am - 9 pm Sunday, N
 ovember 13     9 am - 6 pm\n\n\nFor more information visit https:/
 /ontag.farms.com/events/the-royal-agriculture-winter-fair
DTSTART;TZID=Pacific/Midway:20111104T000000
DTEND;TZID=Pacific/Midway:20111113T235900
CATEGORIES:winter, fair
LOCATION:Toronto
WEBSITE:http://www.royalfair.org/map-direction-hours
URL:http://www.royalfair.org/map-direction-hours
CONTACT:
ORGANIZER;CN="OntAG Admin":https://ontag.farms.com/profile/OntAGAdmin
ATTACH;FMTTYPE="image/jpeg":http://storage.ning.com/topology/rest/1.0/
 file/get/1091514367?profile=original
ATTENDEE;ROLE=REQ-PARTICIPANT;PARTSTAT=ACCEPTED;RSVP=TRUE;CN="OntAG Ad
 min":https://ontag.farms.com/profile/OntAGAdmin
END:VEVENT
END:VCALENDAR
