BEGIN:VCALENDAR
PRODID:NingEventWidget-v1
VERSION:2.0
METHOD:PUBLISH
BEGIN:VTIMEZONE
TZID:Pacific/Midway
X-LIC-LOCATION:Pacific/Midway
BEGIN:STANDARD
TZOFFSETFROM:-1100
TZOFFSETTO:-1100
TZNAME:SST
DTSTART:19700101T000000
END:STANDARD
END:VTIMEZONE
BEGIN:VEVENT
UID:3646443:Event:102002
DTSTAMP:20260419T034533Z
SUMMARY:The Scoop on ... Hog Manure
DESCRIPTION:It sure helps knowing what you're growing with! Join us f
 or a practical workshop on the value of your hog manure: we'll check o
 ut the new AgriSuite tools for nutrient calculations and hear from a f
 armer, contractor & nutrient management consultant on how to make the 
 most of what you've got. Supported by the Timing Matters initiative &
  coordinated by OPACA.\n\nFor more information visit https://ontag.far
 ms.com/events/the-scoop-on-hog-manure
DTSTART;TZID=Pacific/Midway:20210204T103000
DTEND;TZID=Pacific/Midway:20210204T120000
CATEGORIES:online, workshop
LOCATION:Online
WEBSITE:https://opaca.net/events/#id=122&amp;cid=1710&amp;wid=801&amp;
 type=Cal
URL:https://opaca.net/events/#id=122&amp;cid=1710&amp;wid=801&amp;type
 =Cal
CONTACT:
ORGANIZER:Ontario Professional Agri-Contractors Association
ATTACH;FMTTYPE="image/jpeg":https://storage.ning.com/topology/rest/1.0
 /file/get/8275949676?profile=original
ATTENDEE;ROLE=REQ-PARTICIPANT;PARTSTAT=ACCEPTED;RSVP=TRUE;CN="Mel Luym
 es":https://ontag.farms.com/profile/MelLuymes
END:VEVENT
END:VCALENDAR
