BEGIN:VCALENDAR
PRODID:NingEventWidget-v1
VERSION:2.0
METHOD:PUBLISH
BEGIN:VTIMEZONE
TZID:Pacific/Midway
X-LIC-LOCATION:Pacific/Midway
BEGIN:STANDARD
TZOFFSETFROM:-1100
TZOFFSETTO:-1100
TZNAME:SST
DTSTART:19700101T000000
END:STANDARD
END:VTIMEZONE
BEGIN:VEVENT
UID:3646443:Event:106595
DTSTAMP:20260421T230707Z
SUMMARY:The Virtual Royal Agricultural Winter Fair
DESCRIPTION:The Royal Agricultural Winter Fair takes place every Novem
 ber in the City of Toronto. Come celebrate the best in agriculture, lo
 cal food, and equestrian competitions from across the country. Whether
  you’re a visitor or an exhibitor, The Royal Agricultural Winter Fai
 r is jam-packed with home-grown fun and the best in local food and ani
 mal entertainment.The Royal has grown to be the largest indoor agricul
 tural and equestrian event in the world. The Royal Horse Show is one o
 f the world’s finest equestrian spectacles and attracts athletes fro
 m across the planet. A win at The Royal means something, regardless of
  whether you’re pickling, jamming, raising beef or driving six-horse
  hitches. Every year, 300,000 people come to The Fair to celebrate the
  very best food, livestock and horsemanship this country has to offer.
 \n\nFor more information visit https://ontag.farms.com/events/the-virt
 ual-royal-agricultural-winter-fair
DTSTART;TZID=Pacific/Midway:20211105T000000
DTEND;TZID=Pacific/Midway:20211114T235900
CATEGORIES:virtual, event
LOCATION:Exhibition Place
WEBSITE:https://www.royalfair.org/
URL:https://www.royalfair.org/
CONTACT:(416) 263 3400
ORGANIZER:The Royal Agricultural Winter Fair
ATTACH;FMTTYPE="image/jpeg":https://storage.ning.com/topology/rest/1.0
 /file/get/8893221067?profile=original
ATTENDEE;ROLE=REQ-PARTICIPANT;PARTSTAT=ACCEPTED;RSVP=TRUE;CN="OntAG Ad
 min":https://ontag.farms.com/profile/OntAGAdmin
END:VEVENT
END:VCALENDAR
