BEGIN:VCALENDAR
PRODID:NingEventWidget-v1
VERSION:2.0
METHOD:PUBLISH
BEGIN:VTIMEZONE
TZID:Pacific/Midway
X-LIC-LOCATION:Pacific/Midway
BEGIN:STANDARD
TZOFFSETFROM:-1100
TZOFFSETTO:-1100
TZNAME:SST
DTSTART:19700101T000000
END:STANDARD
END:VTIMEZONE
BEGIN:VEVENT
UID:3646443:Event:114374
DTSTAMP:20260420T114714Z
SUMMARY:The Winter Meeting and Trade Show
DESCRIPTION:The Winter Meeting and Trade Show will be held at the Rock
 lyn Hall on Wednesday December 18th, 2024. Doors will open at 9:30 am 
 with the program beginning at 10:00 am.\r\n An excellent slate of spea
 kers will address several timely topics including:\r\n\r\n10:00 - Welc
 ome 10:15 - OSCIA Program Update, Wayne Shier, Workshop Leader, OSCIA 
 10:30 - OMAFA Update, Andrew Barrie, Environmental Specialist, OMAFA 1
 0:45 - Producer Panel - The Fourth Crop, Stuart Wright, Co-Owner Wrigh
 thaven Farms and John Rodgers. Facilitated by Andrew Barrie, OMAFA. 11
 :35 - A Year in Review, Greg Hodgins, Certified Crop Advisor, Holmes A
 gro 12:20 - Ham and Scalloped Potato Dinner Note: Only those pre-regis
 tered will receive lunch! 1:20 - Annual General Meeting 1:55 - Full Ti
 llage to Soil Champion, Thoughts/Reflections on the Journey, Nick Stok
 man, 2023 OSCIA Soil Champion 2:55 - Macro Economic Update and Crop Se
 ctor Outlook, Cam Mock, Senior Relationship Manager and Mike Menzi, Se
 nior District Director for Listowel District, Farm Credit Canada 3:55 
 - Adjourn\r\n The AGM business will be addressed mid-day. An industry 
 trade show will round out the day and add considerable interest to the
  program this year.\n\nFor more information visit https://ontag.farms.
 com/events/the-winter-meeting-and-trade-show
DTSTART;TZID=Pacific/Midway:20241218T100000
DTEND;TZID=Pacific/Midway:20241218T160000
CATEGORIES:winter, meeting, agm, and, trade, show
LOCATION:Rocklyn Hall
WEBSITE:
URL:
CONTACT:
ORGANIZER:Grey County Soil &amp; Crop Improvement Association
ATTACH;FMTTYPE="image/jpeg":
ATTENDEE;ROLE=REQ-PARTICIPANT;PARTSTAT=ACCEPTED;RSVP=TRUE;CN="OntAG Ad
 min":https://ontag.farms.com/profile/OntAGAdmin
END:VEVENT
END:VCALENDAR
