BEGIN:VCALENDAR
PRODID:NingEventWidget-v1
VERSION:2.0
METHOD:PUBLISH
BEGIN:VTIMEZONE
TZID:Pacific/Midway
X-LIC-LOCATION:Pacific/Midway
BEGIN:STANDARD
TZOFFSETFROM:-1100
TZOFFSETTO:-1100
TZNAME:SST
DTSTART:19700101T000000
END:STANDARD
END:VTIMEZONE
BEGIN:VEVENT
UID:3646443:Event:24313
DTSTAMP:20260424T101219Z
SUMMARY:Think Innovation: Bigger Vision & Greater Resources
DESCRIPTION:Join us on October 18, 2011 for Think Innovation event.  
 \nThis one-day conference will focus on financing your big idea, the r
 ural-urban divide and developing investment networks.  With speakers 
 from organizations such as RBC, Angel Capital Network, Bioenterprise C
 apital Corporation and FEDDEV, this is the ultimate event for anyone d
 oing business in Norfolk County!\n \nFor more information and to regi
 ster, please visit www.erieinnovation.com/events\n\nFor more informati
 on visit https://ontag.farms.com/events/think-innovation-bigger-vision
 -greater-resources
DTSTART;TZID=Pacific/Midway:20111018T000000
DTEND;TZID=Pacific/Midway:20111018T235900
CATEGORIES:conference
LOCATION:The Greens at Renton
WEBSITE:http://maps.google.com/maps?q=969+Concession+14+Townsend+Rd,+N
 orfolk,+ON+&hl=en&sll=42.867185,-80.249911&sspn=0.033278,0.076904&vpsr
 c=0&hnear=969+Concession+14+Townsend+Rd,+Norfolk,+Haldimand-Norfolk+Re
 gional+Municipality,+Ontario+N3Y+4L8,+Canada&t=m&z=16
URL:http://maps.google.com/maps?q=969+Concession+14+Townsend+Rd,+Norfo
 lk,+ON+&hl=en&sll=42.867185,-80.249911&sspn=0.033278,0.076904&vpsrc=0&
 hnear=969+Concession+14+Townsend+Rd,+Norfolk,+Haldimand-Norfolk+Region
 al+Municipality,+Ontario+N3Y+4L8,+Canada&t=m&z=16
CONTACT:519-854-7414
ORGANIZER;CN="Shelley Imbeault":https://ontag.farms.com/profile/Shelle
 yImbeault
ATTACH;FMTTYPE="image/jpeg":http://storage.ning.com/topology/rest/1.0/
 file/get/1091514208?profile=original
ATTENDEE;ROLE=REQ-PARTICIPANT;PARTSTAT=ACCEPTED;RSVP=TRUE;CN="Shelley 
 Imbeault":https://ontag.farms.com/profile/ShelleyImbeault
END:VEVENT
END:VCALENDAR
