BEGIN:VCALENDAR
PRODID:NingEventWidget-v1
VERSION:2.0
METHOD:PUBLISH
BEGIN:VTIMEZONE
TZID:Pacific/Midway
X-LIC-LOCATION:Pacific/Midway
BEGIN:STANDARD
TZOFFSETFROM:-1100
TZOFFSETTO:-1100
TZNAME:SST
DTSTART:19700101T000000
END:STANDARD
END:VTIMEZONE
BEGIN:VEVENT
UID:3646443:Event:114405
DTSTAMP:20260422T203757Z
SUMMARY:Tickets on sale for The Leadership Lecture and Reception with 
 Dr. Rebecca Sutherns
DESCRIPTION:The Rural Ontario Institute, host of the renowned Advanced
  Agricultural Leadership Program (AALP), is excited to announce Dr. Re
 becca Sutherns, popular author, professional facilitator and coach wi
 ll be the featured speaker at The Leadership Lecture and Reception. T
 ickets are now on sale for this premiere event.  “Imagination isn’
 t just for dreamers—it’s for leaders,” says Gabrielle Ferguson, 
 Leadership Programs Director at ROI. “This session will inspire and
  equip listeners to think differently and act boldly in shaping the fu
 ture. It is the capstone element of the Advanced AgriculturalLeadershi
 p Program (AALP).”  The event will be held on March 27, 2025, from 6
 :00 PM to 9:00 PM at the DoubleTree by Hilton located at 30 Fairway R
 d South in Kitchener. The evening will kick off with a cocktail recept
 ion, providing an opportunity for attendees to network with community 
 leaders, AALP alumni, current participants of AALP Class 20, program 
 sponsors and distinguished guests.  During her talk, Dr. Sutherns will
  delve into how stepping into a future we desire—whether at a socie
 tal, organizational or personal level—requires us to go beyond evide
 nce and embrace the power of imagination.  “By attending this event
  attendees will discover why imagination is a vital skill we must grow
  into, not out of, and learn how to incorporate it into their leaders
 hip toolkit,” says Dr. Sutherns. Rebecca has a PhD in Sustainable R
 ural Communities, and is a Certified Professional Facilitator and coa
 ch, frequent keynote speaker and has written three books on adaptable
 leadership. She is a skilled communicator with a gift for helping lea
 ders and organizations reimagine their next chapter.\n\nFor more info
 rmation visit https://ontag.farms.com/events/tickets-on-sale-for-the-l
 eadership-lecture-and-reception-with-dr-
DTSTART;TZID=Pacific/Midway:20250327T180000
DTEND;TZID=Pacific/Midway:20250327T210000
CATEGORIES:seminar
LOCATION:DoubleTree by Hilton
WEBSITE:https://www.ruralontarioinstitute.ca/events
URL:https://www.ruralontarioinstitute.ca/events
CONTACT:
ORGANIZER:Rural Ontario Institute
ATTACH;FMTTYPE="image/jpeg":https://storage.ning.com/topology/rest/1.0
 /file/get/13508159463?profile=original
ATTENDEE;ROLE=REQ-PARTICIPANT;PARTSTAT=ACCEPTED;RSVP=TRUE;CN="OntAG Ad
 min":https://ontag.farms.com/profile/OntAGAdmin
END:VEVENT
END:VCALENDAR
