BEGIN:VCALENDAR
PRODID:NingEventWidget-v1
VERSION:2.0
METHOD:PUBLISH
BEGIN:VTIMEZONE
TZID:Pacific/Midway
X-LIC-LOCATION:Pacific/Midway
BEGIN:STANDARD
TZOFFSETFROM:-1100
TZOFFSETTO:-1100
TZNAME:SST
DTSTART:19700101T000000
END:STANDARD
END:VTIMEZONE
BEGIN:VEVENT
UID:3646443:Event:78384
DTSTAMP:20260420T114958Z
SUMMARY:Time, tax and farm transition: Strategies for next generation 
 producers - Stratford
DESCRIPTION:Are you a young producer taking over a family farming oper
 ation? Will you inherit farm assets and tax liability? Lance Stockbrug
 ger can help you use this gift of planning time to develop winning str
 ategies for transition.\r\nFarm Credit Canada invites agriculture prod
 ucers to come out and learn from experts in the agriculture industry a
 t an FCC Workshop coming soon to your region.\r\nFCC Workshops are a p
 ractical way to help producers improve their management skills, get in
 formation and insight from leading farm management experts and gain a 
 deeper understanding of the business of agriculture.\r\nHighlights of 
 the event:\r\nLearn why time is your ally as you take over the farm Ge
 t tips on avoiding the deferred tax trap Build a sound plan for succes
 sful transition Gain peace of mind from knowing you’re ready\r\nThe 
 speaker is:\r\nLance Stockbrugger Farmer, speaker, accountant\r\nLance
  is a chartered accountant with over 20 years of experience in public 
 practice working directly with agriculture producers. Lance uses his k
 nowledge and experience to assist producers with transition planning, 
 intergenerational transfers, and tax reorganizations. Along with his w
 ife Marie, Lance is living his life ambition operating LDS Farms, a ce
 real, oilseed and pulse farm in Central Saskatchewan.\r\n This event i
 s complimentary for all producers. Participants can register online at
  www.fcc.ca/workshops or by calling 1-888-332-3301.\n\nFor more inform
 ation visit https://ontag.farms.com/events/time-tax-and-farm-transitio
 n-strategies-for-next-generation-produ
DTSTART;TZID=Pacific/Midway:20200205T090000
DTEND;TZID=Pacific/Midway:20200205T170000
CATEGORIES:workshop
LOCATION:Stratford Country Club - Dining Room
WEBSITE:http://www.fcc.ca/workshops.
URL:http://www.fcc.ca/workshops.
CONTACT:1-888-332-3301.
ORGANIZER:Farm Credit Canada
ATTACH;FMTTYPE="image/jpeg":
ATTENDEE;ROLE=REQ-PARTICIPANT;PARTSTAT=ACCEPTED;RSVP=TRUE;CN="OntAG Ad
 min":https://ontag.farms.com/profile/OntAGAdmin
END:VEVENT
END:VCALENDAR
