BEGIN:VCALENDAR
PRODID:NingEventWidget-v1
VERSION:2.0
METHOD:PUBLISH
BEGIN:VTIMEZONE
TZID:Pacific/Midway
X-LIC-LOCATION:Pacific/Midway
BEGIN:STANDARD
TZOFFSETFROM:-1100
TZOFFSETTO:-1100
TZNAME:SST
DTSTART:19700101T000000
END:STANDARD
END:VTIMEZONE
BEGIN:VEVENT
UID:3646443:Event:67969
DTSTAMP:20260422T224727Z
SUMMARY:Tips and Tricks of Fire Prevention
DESCRIPTION:\n** PLEASE NOTE THE FOLLOWING COURSE IF OFFERED ON TWO DA
 TES IN MARCH (dates are independent, the same material will be offered
  on both days)\nBarn fires cost the Ontario agriculture industry milli
 ons of dollars per year.  The loss of livestock can be especially tra
 umatic for the farm family and for first responders that attend the sc
 ene.  It is estimated that 40% of the fires begin with electrical fai
 lure. OMAFRA’s Jacqui Empson Laporte will demonstrate a FLIR camera 
 that fits on your smartphone to help you identify electrical problems 
 BEFORE they turn into something tragic. She will also explain the came
 ra lending program that helps people use the technology, and explain h
 ow it fits with more detailed inspections by insurance companies.  Jo
 hn Van de Vegte, OMAFRA, will explain how fires start and how preventa
 tive maintenance on the electrical system in your barn can help reduce
  your risk of fire.\nWhen?      Mon. Mar. 6, & Tues. Mar. 21, 201
 7\n                 1:00 to 3:30 pm\nCost? $10.00 per 
 person\nPre-Register By: Mar. 2, or Mar.17, 2017\n \n\nFor more infor
 mation visit https://ontag.farms.com/events/tips-and-tricks-of-fire-pr
 evention
DTSTART;TZID=Pacific/Midway:20170321T130000
DTEND;TZID=Pacific/Midway:20170321T153000
CATEGORIES:course
LOCATION:Grey Ag Services Boardroom
WEBSITE:http://www.greyagservices.ca/index.php/grey-agricultural-servi
 ces/winter-course-registration
URL:http://www.greyagservices.ca/index.php/grey-agricultural-services/
 winter-course-registration
CONTACT:519 986-3756
ORGANIZER:Grey County Agricultural Services Centre
ATTACH;FMTTYPE="image/jpeg":http://storage.ning.com/topology/rest/1.0/
 file/get/1091546936?profile=original
ATTENDEE;ROLE=REQ-PARTICIPANT;PARTSTAT=ACCEPTED;RSVP=TRUE;CN="Grey Bru
 ce Farmers' Week":https://ontag.farms.com/profile/GreyBruceFarmersWeek
END:VEVENT
END:VCALENDAR
