BEGIN:VCALENDAR
PRODID:NingEventWidget-v1
VERSION:2.0
METHOD:PUBLISH
BEGIN:VTIMEZONE
TZID:Pacific/Midway
X-LIC-LOCATION:Pacific/Midway
BEGIN:STANDARD
TZOFFSETFROM:-1100
TZOFFSETTO:-1100
TZNAME:SST
DTSTART:19700101T000000
END:STANDARD
END:VTIMEZONE
BEGIN:VEVENT
UID:3646443:Event:76363
DTSTAMP:20260421T204848Z
SUMMARY:Training Session for Potato Scouts
DESCRIPTION:The 2019 Ontario potato scout training has been set for Mo
 nday, June 3rd from 10-3:30 at the Holiday Inn in Guelph. To sign up, 
 please email Eugenia at eugeniabanks@onpotato.ca \n\nFor more informa
 tion visit https://ontag.farms.com/events/training-session-for-potato-
 scouts
DTSTART;TZID=Pacific/Midway:20190603T100000
DTEND;TZID=Pacific/Midway:20190603T153000
CATEGORIES:training
LOCATION:Holiday Inn
WEBSITE:http://onvegetables.com&hellip;
URL:http://onvegetables.com&hellip;
CONTACT:
ORGANIZER:Ontario Potato Board
ATTACH;FMTTYPE="image/jpeg":
ATTENDEE;ROLE=REQ-PARTICIPANT;PARTSTAT=ACCEPTED;RSVP=TRUE;CN="OntAG Ad
 min":https://ontag.farms.com/profile/OntAGAdmin
END:VEVENT
END:VCALENDAR
