BEGIN:VCALENDAR
PRODID:NingEventWidget-v1
VERSION:2.0
METHOD:PUBLISH
BEGIN:VTIMEZONE
TZID:Pacific/Midway
X-LIC-LOCATION:Pacific/Midway
BEGIN:STANDARD
TZOFFSETFROM:-1100
TZOFFSETTO:-1100
TZNAME:SST
DTSTART:19700101T000000
END:STANDARD
END:VTIMEZONE
BEGIN:VEVENT
UID:3646443:Event:74572
DTSTAMP:20260422T023234Z
SUMMARY:Transition Smart: Farmers-to-Processors Workshop
DESCRIPTION:Thinking about taking your farming to the next level and p
 rocessing on-farm?\r\nPartnering with Simcoe County, we have developed
  the Transition Smart workshop. The focus of the Transition Smart work
 shop is connecting farmers with the tools to become processors.\r\nOur
  programming will focus on practical preparation tools that can be imm
 ediately implemented and also on identifying feasible value-added oppo
 rtunities for your farm business. Covering everything from operational
  planning, marketing, product development to pricing, distribution, an
 d sales.\r\n\r\nRefunds up to 7 days before event\r\nFor more informat
 ion contact us at:\r\nashley@takeanewapproach.ca\r\n\r\n\r\n\n\nFor mo
 re information visit https://ontag.farms.com/events/transition-smart-f
 armers-to-processors-workshop
DTSTART;TZID=Pacific/Midway:20190116T080000
DTEND;TZID=Pacific/Midway:20190117T160000
CATEGORIES:workshop
LOCATION:Tangle Creek Golf &amp; Country Club
WEBSITE:https://www.eventbrite.com/e/transition-smart-farmers-to-proce
 ssors-workshop-tickets-48134494569?aff=ebdssbdestsearch
URL:https://www.eventbrite.com/e/transition-smart-farmers-to-processor
 s-workshop-tickets-48134494569?aff=ebdssbdestsearch
CONTACT:(519) 822-6618
ORGANIZER;CN="OntAG Admin":https://ontag.farms.com/profile/OntAGAdmin
ATTACH;FMTTYPE="image/jpeg":https://storage.ning.com/topology/rest/1.0
 /file/get/697309807?profile=original
ATTENDEE;ROLE=REQ-PARTICIPANT;PARTSTAT=ACCEPTED;RSVP=TRUE;CN="OntAG Ad
 min":https://ontag.farms.com/profile/OntAGAdmin
END:VEVENT
END:VCALENDAR
