BEGIN:VCALENDAR
PRODID:NingEventWidget-v1
VERSION:2.0
METHOD:PUBLISH
BEGIN:VTIMEZONE
TZID:Pacific/Midway
X-LIC-LOCATION:Pacific/Midway
BEGIN:STANDARD
TZOFFSETFROM:-1100
TZOFFSETTO:-1100
TZNAME:SST
DTSTART:19700101T000000
END:STANDARD
END:VTIMEZONE
BEGIN:VEVENT
UID:3646443:Event:114392
DTSTAMP:20260421T022816Z
SUMMARY:Trendy Triticale
DESCRIPTION:Triticale acres across the province have been increasingâ€
 Żin the last few years. This webinar will cover where triticale fits i
 n a crop rotation and a ration.Â Webinar fee is $12.00. Please RSVP to
  info@greyagservices.ca by at least 2 days prior to the workshop.\n\nF
 or more information visit https://ontag.farms.com/events/trendy-tritic
 ale
DTSTART;TZID=Pacific/Midway:20250211T190000
DTEND;TZID=Pacific/Midway:20250211T200000
CATEGORIES:webinar
LOCATION:Grey Ag Services, Unit 3,
WEBSITE:https://www.greyagservices.ca/
URL:https://www.greyagservices.ca/
CONTACT:5199863756
ORGANIZER:Grey Ag Services
ATTACH;FMTTYPE="image/jpeg":https://storage.ning.com/topology/rest/1.0
 /file/get/13423842263?profile=original
ATTENDEE;ROLE=REQ-PARTICIPANT;PARTSTAT=ACCEPTED;RSVP=TRUE;CN="Grey Bru
 ce Farmers' Week":https://ontag.farms.com/profile/GreyBruceFarmersWeek
END:VEVENT
END:VCALENDAR
