BEGIN:VCALENDAR
PRODID:NingEventWidget-v1
VERSION:2.0
METHOD:PUBLISH
BEGIN:VTIMEZONE
TZID:Pacific/Midway
X-LIC-LOCATION:Pacific/Midway
BEGIN:STANDARD
TZOFFSETFROM:-1100
TZOFFSETTO:-1100
TZNAME:SST
DTSTART:19700101T000000
END:STANDARD
END:VTIMEZONE
BEGIN:VEVENT
UID:3646443:Event:37101
DTSTAMP:20260422T064308Z
SUMMARY:Uncontrolled Electricity / Ground Current Livestock Impacts Se
 minar
DESCRIPTION:Who is invited? Livestock producers, farm organizations, l
 enders, agri-business, media, veterinarians and government officials.\
 n•     Hear from experts on uncontrolled electricity/ground curr
 ent issues\n•     See how farms are being impacted by an aging r
 ural electrical grid\n•     Learn how to measure and track uncon
 trolled electricity\n•     Take action based on the scientific e
 vidence\n Agenda at a glance: \n•     On-farm Unseen/ Uncontro
 lled Electricity – A Practitioner’s Perspective -\nLorne Lantz –
  Agricultural Advisor - Wellesley\n•     Milk Time Analysis – 
 How to Determine if Stray Voltage is an Issue or Not\nDortmans Bros. B
 arn Equipment Inc. - Strathroy\n•     Panel Discussion – The E
 ffects on Livestock Health, Behaviours and Farm Operations\nWendy Omvl
 ee, Moderator – Haldimand Federation of Agriculture Featuring produc
 ers and agri-service providers Ted Cowan, Energy Researcher - Ontario 
 Federation of Agriculture\n•     The Farm perspective – severa
 l producers share their stories\n•     Seminar Summary and Futur
 e Directions - Wendy Omvlee\n All are welcome; please bring a friend.
  RSVP to guarantee your seat for lunch To register, call your local On
 tario Federation of Agriculture Member Service Representative:\nHenry 
 Swierenga  henry.swierenga@ofa.on.ca     1.866.957.4280\nJanet Li
 cskai           janet.licskai@ofa.on.ca 1.866.823.8882\nJanin
 e Lunn             Janine.lunn@ofa.on.ca   1.866.408.0128
 \n \nSponsorship for this meeting provided by Farm Credit Canada, Gay
  Lea Foods Co-operative, B-W Feed & Seed Ltd., County Federations of A
 griculture in Haldimand, Oxford, Norfolk, Brant, Niagara North, Hamilt
 on-Wentworth, Dortmans Bros. Barn Equipment Inc., Ayr Farmers Mutual I
 nsurance Company\n\nFor more information visit https://ontag.farms.com
 /events/uncontrolled-electricity-ground-current-livestock-impacts-semi
 nar
DTSTART;TZID=Pacific/Midway:20130228T094500
DTEND;TZID=Pacific/Midway:20130228T150000
CATEGORIES:farm, industry, seminar
LOCATION:Ancaster Fairgrounds
WEBSITE:http://www.ancasterfair.ca/Pages/Faci/marritthall.htm
URL:http://www.ancasterfair.ca/Pages/Faci/marritthall.htm
CONTACT:1-866-408-0128
ORGANIZER:Janine Lunn - Ontario Federation of Agriculture
ATTACH;FMTTYPE="image/jpeg":
ATTENDEE;ROLE=REQ-PARTICIPANT;PARTSTAT=ACCEPTED;RSVP=TRUE;CN="Janine L
 unn":https://ontag.farms.com/profile/JanineLunn
END:VEVENT
END:VCALENDAR
