BEGIN:VCALENDAR
PRODID:NingEventWidget-v1
VERSION:2.0
METHOD:PUBLISH
BEGIN:VTIMEZONE
TZID:Pacific/Midway
X-LIC-LOCATION:Pacific/Midway
BEGIN:STANDARD
TZOFFSETFROM:-1100
TZOFFSETTO:-1100
TZNAME:SST
DTSTART:19700101T000000
END:STANDARD
END:VTIMEZONE
BEGIN:VEVENT
UID:3646443:Event:113043
DTSTAMP:20260419T061447Z
SUMMARY:Uncover Your Soil Health
DESCRIPTION:Celebrate World Soil Day on December 5 by diving into the 
 exciting research underway at the Greenbelt Foundation, Soil Health In
 stitute and the University of Guelph aimed at transforming the way far
 mers measure and manage soil health in Ontario. Learn how you can get 
 involved and access free soil health assessments for your farm.\n\nWhe
 n: Tuesday, December 5, 2023, from noon to 1:00 p.m.\nRegister: https
 ://us02web.zoom.us/meeting/register/tZEkdeqorDgqH9FlG_zVxLN-QIJfXy9xlE
 sP\n \nQuestions? Contact research@ontariosoilcrop.org.\n\nFor more i
 nformation visit https://ontag.farms.com/events/uncover-your-soil-heal
 th
DTSTART;TZID=Pacific/Midway:20231205T120000
DTEND;TZID=Pacific/Midway:20231205T130000
CATEGORIES:webinar
LOCATION:Zoom
WEBSITE:https://us02web.zoom.us/meeting/register/tZEkdeqorDgqH9FlG_zVx
 LN-QIJfXy9xlEsP
URL:https://us02web.zoom.us/meeting/register/tZEkdeqorDgqH9FlG_zVxLN-Q
 IJfXy9xlEsP
CONTACT:2269348297
ORGANIZER:Ontario Soil and Crop Improvement Association
ATTACH;FMTTYPE="image/jpeg":https://storage.ning.com/topology/rest/1.0
 /file/get/12299308067?profile=original
ATTENDEE;ROLE=REQ-PARTICIPANT;PARTSTAT=ACCEPTED;RSVP=TRUE;CN="Madeline
  Rodrigue":https://ontag.farms.com/profile/MadelineRodrigue
END:VEVENT
END:VCALENDAR
