BEGIN:VCALENDAR
PRODID:NingEventWidget-v1
VERSION:2.0
METHOD:PUBLISH
BEGIN:VTIMEZONE
TZID:Pacific/Midway
X-LIC-LOCATION:Pacific/Midway
BEGIN:STANDARD
TZOFFSETFROM:-1100
TZOFFSETTO:-1100
TZNAME:SST
DTSTART:19700101T000000
END:STANDARD
END:VTIMEZONE
BEGIN:VEVENT
UID:3646443:Event:75983
DTSTAMP:20260420T024046Z
SUMMARY:Understand your rights and responsibilities as an employer
DESCRIPTION:Join for an HR information sessionHuman resources regulati
 ons are always changing and as a business owner, it’s important you 
 know the rules.Katie DeBlock Boersma, employment law specialist with M
 onteith Ritsma Phillips Professional Corporation will walk you through
  the recent updates and how they could impact your farm. Some topics s
 he’ll cover:\r\n\r\nTechnology and your farm – managing online bul
 lying and social media\r\nEmployee sick days – employer obligations 
 and rights\r\nEmployee dismissals – know the process and risks \r\n
 \r\n\r\n$20 (OPIC members) / $25 (Non-OPIC members) To pre-register, c
 ontact Donna Kaczmarczyk at 519-272-1532, or email dkaczmarczyk@Southw
 estvets.ca.\n\nFor more information visit https://ontag.farms.com/even
 ts/understand-your-rights-and-responsibilities-as-an-employer
DTSTART;TZID=Pacific/Midway:20190610T143000
DTEND;TZID=Pacific/Midway:20190610T163000
CATEGORIES:information, session
LOCATION:Exeter United Church
WEBSITE:
URL:
CONTACT:519-272-1532
ORGANIZER:Ontario Pork Industry Council
ATTACH;FMTTYPE="image/jpeg":
ATTENDEE;ROLE=REQ-PARTICIPANT;PARTSTAT=ACCEPTED;RSVP=TRUE;CN="OntAG Ad
 min":https://ontag.farms.com/profile/OntAGAdmin
END:VEVENT
END:VCALENDAR
