BEGIN:VCALENDAR
PRODID:NingEventWidget-v1
VERSION:2.0
METHOD:PUBLISH
BEGIN:VTIMEZONE
TZID:Pacific/Midway
X-LIC-LOCATION:Pacific/Midway
BEGIN:STANDARD
TZOFFSETFROM:-1100
TZOFFSETTO:-1100
TZNAME:SST
DTSTART:19700101T000000
END:STANDARD
END:VTIMEZONE
BEGIN:VEVENT
UID:3646443:Event:113565
DTSTAMP:20260421T211119Z
SUMMARY:Understanding your Financials and Cost Accounting
DESCRIPTION:Do you know your numbers? Learn about: - Bookkeeping basic
 s - How to read a profit and loss statement & balance sheet - Master b
 udgeting and cash flow projections - How to optimize cash flow - Setti
 ng up KPIs/Scoreboards of your important numbers & why - What is cost 
 accounting and how it will help you make better financial decisions - 
 Break-even analysis and what if scenarios (ex. should I grow beans, wh
 eat or corn)\nPresented by: Paul Oehm of Business Profit\nThursday Feb
 ruary 1st, 2024, 1:30 - 3:00 pm at Grey Ag Services, also livestreamed
 . $20. Registration is required.\nFind more info at: https://www.greya
 gservices.ca/courses-webinars info@greyagservices.ca 519-986-3756\n\nF
 or more information visit https://ontag.farms.com/events/understanding
 -your-financials-and-cost-accounting
DTSTART;TZID=Pacific/Midway:20240201T133000
DTEND;TZID=Pacific/Midway:20240201T150000
CATEGORIES:workshop
LOCATION:Grey Ag Services
WEBSITE:https://www.greyagservices.ca/
URL:https://www.greyagservices.ca/
CONTACT:5199863756
ORGANIZER:Grey Ag Services
ATTACH;FMTTYPE="image/jpeg":https://storage.ning.com/topology/rest/1.0
 /file/get/12365481300?profile=original
ATTENDEE;ROLE=REQ-PARTICIPANT;PARTSTAT=ACCEPTED;RSVP=TRUE;CN="Grey Bru
 ce Farmers' Week":https://ontag.farms.com/profile/GreyBruceFarmersWeek
END:VEVENT
END:VCALENDAR
