BEGIN:VCALENDAR
PRODID:NingEventWidget-v1
VERSION:2.0
METHOD:PUBLISH
BEGIN:VTIMEZONE
TZID:Pacific/Midway
X-LIC-LOCATION:Pacific/Midway
BEGIN:STANDARD
TZOFFSETFROM:-1100
TZOFFSETTO:-1100
TZNAME:SST
DTSTART:19700101T000000
END:STANDARD
END:VTIMEZONE
BEGIN:VEVENT
UID:3646443:Event:8086
DTSTAMP:20260422T160939Z
SUMMARY:University of Guelph CME Executive Programs Information Sessio
 n
DESCRIPTION:The University of Guelph's College of Management & Economi
 cs has a profound commitment to community well-being, sustainable comm
 erce and global competitiveness. As part of that commitment the colleg
 e offers a Master of Business Administration in Food & Agribusiness Ma
 nagement as an On-Line MBA.CME Executive Programs Information Session:
 January 19th, 2011 CME Executive Programs Information Session includin
 g an overview of both the Guelph On-Line MBA and the MA (Leadership) p
 rogram which will be commencing at 7:00 PM at the Hilton Toronto locat
 ed at 145 Richmond Street West, Toronto.Interested attendees may e-mai
 l me directly at plago@uoguelph.ca or can learn more on-line by visiti
 ng the University of Guelph's CME Executive Programs web site at http:
 //www.uoguelph.ca/cme/node/add/info-session.\n\nFor more information v
 isit https://ontag.farms.com/events/university-of-guelph-cme
DTSTART;TZID=Pacific/Midway:20110119T190000
DTEND;TZID=Pacific/Midway:20110119T210000
CATEGORIES:information, session
LOCATION:Hilton Toronto
WEBSITE:http://www.agcareers.com/educationaladv.cfm?task=guelph
URL:http://www.agcareers.com/educationaladv.cfm?task=guelph
CONTACT:plago@uoguelph.ca
ORGANIZER:University of Guelph
ATTACH;FMTTYPE="image/jpeg":http://storage.ning.com/topology/rest/1.0/
 file/get/1091511019?profile=original
ATTENDEE;ROLE=REQ-PARTICIPANT;PARTSTAT=ACCEPTED;RSVP=TRUE;CN="OntAG Ad
 min":https://ontag.farms.com/profile/OntAGAdmin
END:VEVENT
END:VCALENDAR
