BEGIN:VCALENDAR
PRODID:NingEventWidget-v1
VERSION:2.0
METHOD:PUBLISH
BEGIN:VTIMEZONE
TZID:Pacific/Midway
X-LIC-LOCATION:Pacific/Midway
BEGIN:STANDARD
TZOFFSETFROM:-1100
TZOFFSETTO:-1100
TZNAME:SST
DTSTART:19700101T000000
END:STANDARD
END:VTIMEZONE
BEGIN:VEVENT
UID:3646443:Event:77298
DTSTAMP:20260422T155949Z
SUMMARY:University of Guelph Equine Industry Symposium
DESCRIPTION:The fourth annual Equine Industry Symposium will be hosted
  by BBRM Event Management students.The Symposium is a chance for indus
 try professionals to learn about and discuss the industry as a whole. 
 The main focus of this year’s Symposium will be ‘Change’. Profes
 sionals from different backgrounds in the industry will discuss ‘Our
  changing relationship with horses, being the change your horse needs,
  making changes in the industry, and human behaviour change for horse 
 welfare. Speakers include Dr. Sandra Olsen, Lisa Ashton, Debbie Busby,
  and a panel discussion with Anthony MacDonald, Warren Byrne, and Dani
 elle Yaghdjian. Once again we have the pleasure of having Akaash Mahar
 aj as the facilitator for the day.\r\nThis event is free and open to a
 nyone involved in the equine industry looking to discuss changes in th
 e industry. Advanced registration is required.\r\nYou can register for
  the Equine Industry Symposium through eventbrite here.\r\nLunch will 
 be served at this event. If you have any dietary needs or restrictions
  please contact eqevents@uoguelph.ca\r\nFree parking is available in P
 10 and P12 on weekends.\n\nFor more information visit https://ontag.fa
 rms.com/events/university-of-guelph-equine-industry-symposium
DTSTART;TZID=Pacific/Midway:20191117T090000
DTEND;TZID=Pacific/Midway:20191117T170000
CATEGORIES:symposium
LOCATION:Rozanski Hall room 101, at the University of Guelph main camp
 us
WEBSITE:https://www.uoguelph.ca/oac/about/university-guelph-equine-ind
 ustry-symposium
URL:https://www.uoguelph.ca/oac/about/university-guelph-equine-industr
 y-symposium
CONTACT:+1 519-824-4120
ORGANIZER:University of Guelph
ATTACH;FMTTYPE="image/jpeg":
ATTENDEE;ROLE=REQ-PARTICIPANT;PARTSTAT=ACCEPTED;RSVP=TRUE;CN="OntAG Ad
 min":https://ontag.farms.com/profile/OntAGAdmin
END:VEVENT
END:VCALENDAR
