BEGIN:VCALENDAR
PRODID:NingEventWidget-v1
VERSION:2.0
METHOD:PUBLISH
BEGIN:VTIMEZONE
TZID:Pacific/Midway
X-LIC-LOCATION:Pacific/Midway
BEGIN:STANDARD
TZOFFSETFROM:-1100
TZOFFSETTO:-1100
TZNAME:SST
DTSTART:19700101T000000
END:STANDARD
END:VTIMEZONE
BEGIN:VEVENT
UID:3646443:Event:9015
DTSTAMP:20260422T115322Z
SUMMARY:Value Chain Workshop
DESCRIPTION:Blade%20Farming%20012711.pdf\n \nBlade Farming:  Learn h
 ow an English value chain set the benchmark for success in the beef in
 dustry.  The Value Chain Management Centre is pleased to present this
  complimentary half-day workshop.\n \nEstablished in 1999 to supply b
 eef to the retail and foodservice sectors, Blade Farming set a benchma
 rk for beef producers and other members of the value chain working tog
 ether to better manage financial risk and reduce costs more effectivel
 y than when operating independently.\n \nIf you would like to attend 
 this event, please respond to Pat Dares, pat@georgemorris.org or 519-8
 22-3929 ext. 213, as seating is limited. \n\nFor more information vis
 it https://ontag.farms.com/events/value-chain-workshop
DTSTART;TZID=Pacific/Midway:20110225T090000
DTEND;TZID=Pacific/Midway:20110225T120000
CATEGORIES:workshop
LOCATION:Delta Meadowvale
WEBSITE:
URL:
CONTACT:519-822-3929 ext. 213
ORGANIZER:Pat Dares
ATTACH;FMTTYPE="image/jpeg":
END:VEVENT
END:VCALENDAR
