BEGIN:VCALENDAR
PRODID:NingEventWidget-v1
VERSION:2.0
METHOD:PUBLISH
BEGIN:VTIMEZONE
TZID:Pacific/Midway
X-LIC-LOCATION:Pacific/Midway
BEGIN:STANDARD
TZOFFSETFROM:-1100
TZOFFSETTO:-1100
TZNAME:SST
DTSTART:19700101T000000
END:STANDARD
END:VTIMEZONE
BEGIN:VEVENT
UID:3646443:Event:113666
DTSTAMP:20260419T032835Z
SUMMARY:Variability of Corn Nitrogen Response Across the Soil Landscap
 e
DESCRIPTION:Thinking about variable rating nitrogen across a corn fiel
 d? This talk will discuss how soils and topographic landforms might of
 fer some clues for how corn yield responses to nitrogen might vary acr
 oss a corn field. Also some discussion on how you might ground truth a
  variable rate nitrogen strategy on your own farm.\nPresented by: Ben 
 Rosser of OMAFRA, Jonathan Zettler an Agronomist at Fieldwalker Agrono
 my, and Caleb Niemeyer from Woodrill Ltd\nThursday February 29th, 2024
 , 1:00 - 2:00 pm on Zoom. $12. Registration is required.\nFind more in
 fo at: https://www.greyagservices.ca/courses-webinars info@greyagservi
 ces.ca 519-986-3756\n\nFor more information visit https://ontag.farms.
 com/events/variability-of-corn-nitrogen-response-across-the-soil-lands
 cape
DTSTART;TZID=Pacific/Midway:20240229T130000
DTEND;TZID=Pacific/Midway:20240229T140000
CATEGORIES:zoom, meeting
LOCATION:Zoom Meeting
WEBSITE:https://www.greyagservices.ca/
URL:https://www.greyagservices.ca/
CONTACT:5199863756
ORGANIZER:Grey Ag Services
ATTACH;FMTTYPE="image/jpeg":
ATTENDEE;ROLE=REQ-PARTICIPANT;PARTSTAT=ACCEPTED;RSVP=TRUE;CN="Grey Bru
 ce Farmers' Week":https://ontag.farms.com/profile/GreyBruceFarmersWeek
END:VEVENT
END:VCALENDAR
