BEGIN:VCALENDAR
PRODID:NingEventWidget-v1
VERSION:2.0
METHOD:PUBLISH
BEGIN:VTIMEZONE
TZID:Pacific/Midway
X-LIC-LOCATION:Pacific/Midway
BEGIN:STANDARD
TZOFFSETFROM:-1100
TZOFFSETTO:-1100
TZNAME:SST
DTSTART:19700101T000000
END:STANDARD
END:VTIMEZONE
BEGIN:VEVENT
UID:3646443:Event:5458
DTSTAMP:20260419T052840Z
SUMMARY:Victoria SCIA Crop Tour
DESCRIPTION:Victoria SCIA Crop Tour, 7 pm Bruce McKeown's, 1029 Peniel
  Rd, RR3 Woodville\non-farm oilseed press - Bruce feeds the soymeal an
 d is selling the oil or using it for Biodiesel\n\n8 pm John Kinghorn's
 , 1030 Cambray Rd, RR3 Woodville - East Central Project on Establishme
 nt of C4 Bio-Fuel Grasses, followed by a BBQ.\n\nContact Neil Moore 70
 5-324-2594/ nmoore@trytel.net\n\nFor more information visit https://on
 tag.farms.com/events/victoria-scia-crop-tour
DTSTART;TZID=Pacific/Midway:20100705T000000
DTEND;TZID=Pacific/Midway:20100705T235900
CATEGORIES:crop, tour
LOCATION:RR3 Woodville
WEBSITE:
URL:
CONTACT:
ORGANIZER:
ATTACH;FMTTYPE="image/jpeg":
ATTENDEE;ROLE=REQ-PARTICIPANT;PARTSTAT=ACCEPTED;RSVP=TRUE;CN="OntAG Ad
 min":https://ontag.farms.com/profile/OntAGAdmin
END:VEVENT
END:VCALENDAR
