BEGIN:VCALENDAR
PRODID:NingEventWidget-v1
VERSION:2.0
METHOD:PUBLISH
BEGIN:VTIMEZONE
TZID:Pacific/Midway
X-LIC-LOCATION:Pacific/Midway
BEGIN:STANDARD
TZOFFSETFROM:-1100
TZOFFSETTO:-1100
TZNAME:SST
DTSTART:19700101T000000
END:STANDARD
END:VTIMEZONE
BEGIN:VEVENT
UID:3646443:Event:78771
DTSTAMP:20260421T172046Z
SUMMARY:Virtual Career Fair for Agriculture and Food Industry -- Middl
 esex/London & Surrounding Areas Posted by AgCareers.com
DESCRIPTION:Many local people may be seeking new employment opportunit
 ies, either because of the economic downturn, process changes as a res
 ult of Covid-19, or because they want to explore new possibilities in 
 new areas.  For those individuals who may be looking at a career chan
 ge, careers in the food and agriculture industry could be a great opti
 on. \r\nJust like at an in-person career fair, the virtual career fai
 r, will feature virtual exhibit floors where job seekers can browse po
 tential employers as well as job opportunities that are available, and
  will be able have a real-time message and face to face conversations 
 with company representatives.\r\nThroughout the process, attendees wil
 l also be able to communicate with each other in real-time and will al
 so get the chance to learn more about the industry and the current/fut
 ure jobs available. There will be presentations and overviews of vario
 us sectors of the industry.  Attendees will be able to do all this in
  the safety and comfort of their own home. \r\n This online networki
 ng opportunity is free of charge for all participants.  If you are no
 t great with technology, but want to participate in a career fair, the
  AgCareers.com Job Seeker Concierge can help guide you through the pro
 cess.   To register for the event, visit AgCareers.com/feed-your-fut
 ure or call the concierge at 877--438-5729 ext. 4.  \r\nIf you are a
 n employer who would like to participate as an exhibitor free of charg
 e, call 877--438-5729 ext. 4.  \n\nFor more information visit https:
 //ontag.farms.com/events/virtual-career-fair-for-agriculture-and-food-
 industry-middlesex-l
DTSTART;TZID=Pacific/Midway:20200618T140000
DTEND;TZID=Pacific/Midway:20200618T170000
CATEGORIES:career, fair
LOCATION:Middlesex/London
WEBSITE:https://www.agcareers.com/feed-your-future.cfm
URL:https://www.agcareers.com/feed-your-future.cfm
CONTACT:877--438-5729 ext. 4.
ORGANIZER:AgCareers.com
ATTACH;FMTTYPE="image/jpeg":https://storage.ning.com/topology/rest/1.0
 /file/get/5743718071?profile=original
ATTENDEE;ROLE=REQ-PARTICIPANT;PARTSTAT=ACCEPTED;RSVP=TRUE;CN="OntAG Ad
 min":https://ontag.farms.com/profile/OntAGAdmin
END:VEVENT
END:VCALENDAR
