BEGIN:VCALENDAR
PRODID:NingEventWidget-v1
VERSION:2.0
METHOD:PUBLISH
BEGIN:VTIMEZONE
TZID:Pacific/Midway
X-LIC-LOCATION:Pacific/Midway
BEGIN:STANDARD
TZOFFSETFROM:-1100
TZOFFSETTO:-1100
TZNAME:SST
DTSTART:19700101T000000
END:STANDARD
END:VTIMEZONE
BEGIN:VEVENT
UID:3646443:Event:80128
DTSTAMP:20260421T073258Z
SUMMARY:Webinar-Different tools in the tool box
DESCRIPTION:Different tools in the tool box – Pat VonTersch, Owner, 
 Professional Ag MarketingHosted by the Iowa Pork Industry Center and I
 owa Pork Producers Association, this series will focus on providing in
 formation to producers that can help them find opportunities for recov
 ery in this difficult time.\r\nDuring each webinar, offered Wednesdays
 , 7:00 PM CDT, participants have the opportunity to interact, ask ques
 tions, and learn from the presenters featured each week. Webinars are 
 offered via Webex and can be accessed via any computer or mobile devi
 ce with internet connection. There is no charge to participate, but re
 gistration is required to receive connection information and participa
 te.\r\nThe webinars will be recorded and available HERE. The first tw
 o sessions will be available shortly. If you have any questions, pleas
 e reach out to Stacie Matchan at sgould@iastate.edu.To register, pleas
 e click here\n\nFor more information visit https://ontag.farms.com/eve
 nts/webinar-different-tools-in-the-tool-box
DTSTART;TZID=Pacific/Midway:20200909T190000
DTEND;TZID=Pacific/Midway:20200909T200000
CATEGORIES:online
LOCATION:Online
WEBSITE:
URL:
CONTACT:
ORGANIZER:Iowa Pork Industry Center and Iowa Pork Producers Associatio
 n
ATTACH;FMTTYPE="image/jpeg":
ATTENDEE;ROLE=REQ-PARTICIPANT;PARTSTAT=ACCEPTED;RSVP=TRUE;CN="OntAG Ad
 min":https://ontag.farms.com/profile/OntAGAdmin
END:VEVENT
END:VCALENDAR
