BEGIN:VCALENDAR
PRODID:NingEventWidget-v1
VERSION:2.0
METHOD:PUBLISH
BEGIN:VTIMEZONE
TZID:Pacific/Midway
X-LIC-LOCATION:Pacific/Midway
BEGIN:STANDARD
TZOFFSETFROM:-1100
TZOFFSETTO:-1100
TZNAME:SST
DTSTART:19700101T000000
END:STANDARD
END:VTIMEZONE
BEGIN:VEVENT
UID:3646443:Event:79579
DTSTAMP:20260420T123640Z
SUMMARY:Webinar - Fighting the Invasive Plant Phragmites
DESCRIPTION:Join CVC for a Free Webinar on Fighting the Invasive Plant
  Phragmites\r\nPhragmites is an invasive plant that has been damaging 
 ecosystems in Ontario for decades. Credit Valley Conservation (CVC) is
  hosting a free webinar for rural landowners on controlling Phragmites
  on their properties. The Deep in the Reeds webinar takes place Tuesda
 y, August 18 from 6:30 - 7:30 p.m.\r\nJoin CVC’s Karen Buckle for a 
 lively discussion on how to identify, control and manage this invasive
  plant with CVC’s invasive species expert and guest speakers from lo
 cal organizations.\r\n“Phragmites is one of Ontario’s most trouble
 some invasive plants,” said Karen Buckle, Rural Landowner Outreach C
 oordinator at CVC. “It’s spreading locally. Rural residents can he
 lp stop the spread by removing it from their properties.”\r\nCVC’s
  invasive species expert, Bryanna McLaughlin, will cover how to identi
 fy and remove Phragmites. Participants will hear how Ernie and Angela 
 Lynch, organizers of the citizen-led group The Phrag Fighters, have ta
 ken up the fight against this invasive reed. Karen Morrison from the H
 eadwaters Streams Committee will share how the committee is working to
  control Phragmites in Orangeville and Mono.\r\nPhragmites are towerin
 g reeds seen in thick, impenetrable stands along roadside ditches and 
 in wetlands across the province. They are a major threat to biodiversi
 ty in the region, destroying wildlife habitat, reducing open water are
 as and outcompeting native vegetation.\r\nRegister online at cvc.ca/ev
 ents or call 905-670-1615 ext. 221. This webinar is designed for rural
  residents in the Credit River Watershed.\r\nContact: Karen Buckle at 
 or Karen.Buckle@cvc.ca\r\nRegister Online\n\nFor more information visi
 t https://ontag.farms.com/events/webinar-fighting-the-invasive-plant-p
 hragmites
DTSTART;TZID=Pacific/Midway:20200818T183000
DTEND;TZID=Pacific/Midway:20200818T193000
CATEGORIES:webinar
LOCATION:Online Event
WEBSITE:https://cvc.ca/event/deep-in-the-reeds-how-to-stop-the-spread-
 of-invasive-phragmites/
URL:https://cvc.ca/event/deep-in-the-reeds-how-to-stop-the-spread-of-i
 nvasive-phragmites/
CONTACT:905-670-1615 ext. 221
ORGANIZER:Credit Valley Conservation
ATTACH;FMTTYPE="image/jpeg":
ATTENDEE;ROLE=REQ-PARTICIPANT;PARTSTAT=ACCEPTED;RSVP=TRUE;CN="OntAG Ad
 min":https://ontag.farms.com/profile/OntAGAdmin
END:VEVENT
END:VCALENDAR
