BEGIN:VCALENDAR
PRODID:NingEventWidget-v1
VERSION:2.0
METHOD:PUBLISH
BEGIN:VTIMEZONE
TZID:Pacific/Midway
X-LIC-LOCATION:Pacific/Midway
BEGIN:STANDARD
TZOFFSETFROM:-1100
TZOFFSETTO:-1100
TZNAME:SST
DTSTART:19700101T000000
END:STANDARD
END:VTIMEZONE
BEGIN:VEVENT
UID:3646443:Event:102202
DTSTAMP:20260421T101536Z
SUMMARY:Webinar: Roots To Success: Agricultural Risk Management Worksh
 ops
DESCRIPTION:Farm life can be unpredictable, even on the best days – 
 weather, pests, market conditions, relationships, and more recently, C
 OVID-19 can affect not only day-to-day farm management but the future 
 of the operation altogether. But, with risk, also comes opportunity fo
 r those who are positioned to take calculated risks. This is why it’
 s important to plan for risk.\r\nFarm Management Canada invites farmer
 s to attend the Roots to Success Risk Management virtual training sess
 ion to increase their ability to assess and address risks using a comp
 rehensive approach to managing risk on the farm.\r\nThe training sessi
 on will allow you to:\r\nGain knowledge, tools and resources to make b
 etter business decisionsShare best practices and lessons learned with 
 other producersBegin to create a comprehensive risk management plan ta
 ilored to your farm\r\nThese workshops are designed for producers in C
 anada only.Space is limited and will be given on a first come, first s
 erve basis.Participants are expected to have access to a computer and 
 a reliable internet connection to attend the training.A pre-training s
 urvey will be shared in order to tailor the content of workshop to the
  needs of the participants.Click here to register for the event!\n\nFo
 r more information visit https://ontag.farms.com/events/webinar-roots-
 to-success-agricultural-risk-management-workshops
DTSTART;TZID=Pacific/Midway:20210126T130000
DTEND;TZID=Pacific/Midway:20210126T160000
CATEGORIES:webinar
LOCATION:Online
WEBSITE:https://www.eventbrite.ca/e/roots-to-success-agricultural-risk
 -management-workshops-registration-132136161817
URL:https://www.eventbrite.ca/e/roots-to-success-agricultural-risk-man
 agement-workshops-registration-132136161817
CONTACT:
ORGANIZER:Farm Management Canada
ATTACH;FMTTYPE="image/jpeg":
ATTENDEE;ROLE=REQ-PARTICIPANT;PARTSTAT=ACCEPTED;RSVP=TRUE;CN="OntAG Ad
 min":https://ontag.farms.com/profile/OntAGAdmin
END:VEVENT
END:VCALENDAR
