BEGIN:VCALENDAR
PRODID:NingEventWidget-v1
VERSION:2.0
METHOD:PUBLISH
BEGIN:VTIMEZONE
TZID:Pacific/Midway
X-LIC-LOCATION:Pacific/Midway
BEGIN:STANDARD
TZOFFSETFROM:-1100
TZOFFSETTO:-1100
TZNAME:SST
DTSTART:19700101T000000
END:STANDARD
END:VTIMEZONE
BEGIN:VEVENT
UID:3646443:Event:79170
DTSTAMP:20260419T061643Z
SUMMARY:Webinar - Smart estate plans for farming families
DESCRIPTION:\r\n\r\nIf your familyâ€™s in the estate planning trenches
  â€“ this webinar is for you\r\n\r\n\r\nWill and estate planningÂ isÂ 
 part of every farm family's story â€“ butÂ itÂ canÂ come withÂ a lot o
 f baggage.Â MaybeÂ turning over control to the next generationÂ is cau
 sing you stress. Or,Â doesÂ aÂ communication breakdownÂ haveÂ everyone
  on different pages?Â Â JoinÂ Annessa Good, FCC Ag Transition Speciali
 st,Â for anÂ interviewÂ withÂ Dr. Tom Deans,â€¯The New York Timesâ€¯To
 p-Ten Author ofâ€¯Willing Wisdomâ€¯which remains the best-selling Cana
 dian estate planning book of all-time.Â \r\nIn this interview, heâ€™ll
  focus on:Â Â \r\n\r\nWhatâ€™s preventing people from estate planningÂ
  Â \r\nHow COVID-19 is impacting estate planningÂ \r\nThe importance o
 f farm family meetings\r\n\r\nDr. Deans has delivered more than 1,000 
 keynote speeches in 26 countries and will be talking about the importa
 nce of estate planning in our current global crisis. He delivers a fas
 t-paced, entertaining and informative message that you wonâ€™t want to
  miss.Â To Register Please Click here\n\nFor more information visit ht
 tps://ontag.farms.com/events/webinar-smart-estate-plans-for-farming-fa
 milies
DTSTART;TZID=Pacific/Midway:20200714T140000
DTEND;TZID=Pacific/Midway:20200714T150000
CATEGORIES:webinar
LOCATION:Farm Credit Canada
WEBSITE:https://www.fcc-fac.ca/en.html
URL:https://www.fcc-fac.ca/en.html
CONTACT:
ORGANIZER:Farm Credit Canada
ATTACH;FMTTYPE="image/jpeg":https://storage.ning.com/topology/rest/1.0
 /file/get/6245481488?profile=original
ATTENDEE;ROLE=REQ-PARTICIPANT;PARTSTAT=ACCEPTED;RSVP=TRUE;CN="OntAG Ad
 min":https://ontag.farms.com/profile/OntAGAdmin
END:VEVENT
END:VCALENDAR
