BEGIN:VCALENDAR
PRODID:NingEventWidget-v1
VERSION:2.0
METHOD:PUBLISH
BEGIN:VTIMEZONE
TZID:Pacific/Midway
X-LIC-LOCATION:Pacific/Midway
BEGIN:STANDARD
TZOFFSETFROM:-1100
TZOFFSETTO:-1100
TZNAME:SST
DTSTART:19700101T000000
END:STANDARD
END:VTIMEZONE
BEGIN:VEVENT
UID:3646443:Event:53243
DTSTAMP:20260422T222227Z
SUMMARY:Weed Management for Small to Mid Scale Organic Vegetable Produ
 ction
DESCRIPTION:Knowing how to control weeds is one of the most important 
 skills needed for successful organic vegetable production. Organic veg
 etable farming requires a diverse and very proactive approach to weed 
 control. You can avoid the constant scramble to save crops from weeds 
 by understanding important concepts and techniques in weed control and
  by having a plan in place before you put the crop in the ground. Join
  co-owner and manager ofÂ Cedar Down FarmÂ CSA Jeff Boesch for discuss
 ion of the terms, concepts and techniques for weed control in organic 
 vegetable farming.Topics that will be covered include:\n\nstale seed b
 ed preparation,\ncover cropping and crop rotation for weed control,\na
  large selection of hand and tractor powered weed management tools,\nt
 iming; weeding schedules in different crops,\nmulching,\nsoil conditio
 ns and fertility in weed control,\ncomposting for weed control,\nweed 
 identification,\nand much moreâ€¦.\n\nWhen: Â SaturdayÂ May 3, 1:00-5:
 00pmWhere:Â Volunteer Hamilton,Â 267 King St E, HamiltonCost:Â $55.00Â
  (+HST) perÂ person, or $100.00Â (+HST) perÂ farm team of two peopleRe
 gistration:Â click here to register\n\nFor more information visit http
 s://ontag.farms.com/events/weed-management-for-small-to-mid-scale-orga
 nic-vegetable
DTSTART;TZID=Pacific/Midway:20140503T130000
DTEND;TZID=Pacific/Midway:20140503T170000
CATEGORIES:farming, workshop
LOCATION:Volunteer Hamilton
WEBSITE:https://ticketbud.com/events/7f027d38-9a53-11e3-8922-e7407f42d
 cbe
URL:https://ticketbud.com/events/7f027d38-9a53-11e3-8922-e7407f42dcbe
CONTACT:519-836-7046 x 103
ORGANIZER:Cherie Bauman
ATTACH;FMTTYPE="image/jpeg":http://storage.ning.com/topology/rest/1.0/
 file/get/1091522081?profile=original
ATTENDEE;ROLE=REQ-PARTICIPANT;PARTSTAT=ACCEPTED;RSVP=TRUE;CN="Julie De
 nneny":https://ontag.farms.com/profile/JulieDenneny
END:VEVENT
END:VCALENDAR
