BEGIN:VCALENDAR
PRODID:NingEventWidget-v1
VERSION:2.0
METHOD:PUBLISH
BEGIN:VTIMEZONE
TZID:Pacific/Midway
X-LIC-LOCATION:Pacific/Midway
BEGIN:STANDARD
TZOFFSETFROM:-1100
TZOFFSETTO:-1100
TZNAME:SST
DTSTART:19700101T000000
END:STANDARD
END:VTIMEZONE
BEGIN:VEVENT
UID:3646443:Event:35863
DTSTAMP:20260424T051250Z
SUMMARY:Western Fair Farm Show, London, Ontario
DESCRIPTION:\n \nWednesday, March 6, 2013: 9:00 am - 6:00 pm\nThursda
 y, March 7, 2013: 9:00 am - 6:00 pm\nFriday, March 8, 2013: 9:00 am 
 - 4:00 pm\nSpeaker Series Reflects Farm Future!\n\n \nLondon, Ontario
 , March 4, 2013: Thousands of farmers flock every year to the London 
 Farm Show to see the latest in farming equipment and what’s new and 
 exciting in agricultural technology.  In 2013, participants reflect o
 n the past as the event celebrates 75 years and look forward to showca
 sing what’s current and relevant in agricultural information, produc
 ts and services, for farmers in our region and beyond.  To help educa
 te and inspire, the London Farm Show has scheduled a strong speaker se
 ries with informative talks covering a variety of topics: new aerial i
 magery technology, mobile software, farm safety and market trends.\nTh
 is year's show expanded to more than 250,000 square feet of show space
  as we grew the show into the state-of-the-art Agriplex facility. Ther
 e were hundreds of products/services, expert guest speakers in the Aud
 itorium, and hands-on equipment demonstrations in the PRIDE Seeds Aren
 a.\n\nFor more information visit https://ontag.farms.com/events/wester
 n-fair-farm-show-london-ontario
DTSTART;TZID=Pacific/Midway:20130306T000000
DTEND;TZID=Pacific/Midway:20130308T235900
CATEGORIES:farm, show
LOCATION:Western Fair District
WEBSITE:http://www.westernfairdistrict.com/events/attend/2013Farm_Show
 #.UTc-AaIp_IY
URL:http://www.westernfairdistrict.com/events/attend/2013Farm_Show#.UT
 c-AaIp_IY
CONTACT:
ORGANIZER:Western Fair District
ATTACH;FMTTYPE="image/jpeg":http://storage.ning.com/topology/rest/1.0/
 file/get/1091518669?profile=original
ATTENDEE;ROLE=REQ-PARTICIPANT;PARTSTAT=ACCEPTED;RSVP=TRUE;CN="OntAG Ad
 min":https://ontag.farms.com/profile/OntAGAdmin
ATTENDEE;ROLE=REQ-PARTICIPANT;PARTSTAT=ACCEPTED;RSVP=TRUE;CN="Joe Dale
 s":https://ontag.farms.com/profile/JoeDales
END:VEVENT
END:VCALENDAR
