BEGIN:VCALENDAR
PRODID:NingEventWidget-v1
VERSION:2.0
METHOD:PUBLISH
BEGIN:VTIMEZONE
TZID:Pacific/Midway
X-LIC-LOCATION:Pacific/Midway
BEGIN:STANDARD
TZOFFSETFROM:-1100
TZOFFSETTO:-1100
TZNAME:SST
DTSTART:19700101T000000
END:STANDARD
END:VTIMEZONE
BEGIN:VEVENT
UID:3646443:Event:60674
DTSTAMP:20260422T064555Z
SUMMARY:White Planter Days @ Advantage Farm Equipment London
DESCRIPTION:Advantage Farm Equipment and AGCO are hosting a White Plan
 ter Clinic at three locations, London, Wyoming and Essex.   Come and l
 earn more about the new features on all planters and prepare for sprin
 g!   AGCO specialists will be on site to guide you through all the ava
 ilable options and answer any questions you may have.   There will be 
 three clinics at three different locations. RSVP to your local Advanta
 ge sales team member today to attend the clinic nearest you.   London:
  Monday March 30th - 2pm - 6pm  Wyoming: Tuesday March 31st - 2pm - 6p
 m  Essex: Wednesday April 1st - 2pm - 6pm   www.advantage-equip.com\n\
 nFor more information visit https://ontag.farms.com/events/white-plant
 er-days-advantage-farm-equipment-london
DTSTART;TZID=Pacific/Midway:20150330T140000
DTEND;TZID=Pacific/Midway:20150330T180000
CATEGORIES:educational, clinic
LOCATION:Advantage Farm Equipment London
WEBSITE:http://advantage-equip.com
URL:http://advantage-equip.com
CONTACT:519-652-1552
ORGANIZER;CN="Advantage Farm Equipment":https://ontag.farms.com/profil
 e/AdvantageFarmEquipment
ATTACH;FMTTYPE="image/jpeg":http://storage.ning.com/topology/rest/1.0/
 file/get/1091538199?profile=original
ATTENDEE;ROLE=REQ-PARTICIPANT;PARTSTAT=ACCEPTED;RSVP=TRUE;CN="Advantag
 e Farm Equipment":https://ontag.farms.com/profile/AdvantageFarmEquipme
 nt
END:VEVENT
END:VCALENDAR
