BEGIN:VCALENDAR
PRODID:NingEventWidget-v1
VERSION:2.0
METHOD:PUBLISH
BEGIN:VTIMEZONE
TZID:Pacific/Midway
X-LIC-LOCATION:Pacific/Midway
BEGIN:STANDARD
TZOFFSETFROM:-1100
TZOFFSETTO:-1100
TZNAME:SST
DTSTART:19700101T000000
END:STANDARD
END:VTIMEZONE
BEGIN:VEVENT
UID:3646443:Event:6542
DTSTAMP:20260421T194247Z
SUMMARY:Women in Agri-Business Symposium
DESCRIPTION:Goals:\n To invest in leadership and business skills sp
 ecifically for women in rural, agriculture\nand agri-food business sec
 tors.\n To encourage/foster women in agri-business leadership roles
 .\n To provide an opportunity for women to network with others in t
 he industry.\n\nWho should attend:\nCanadian women involved in:\n a
 gricultural businesses from farm through to retail;\n agricultural 
 leadership roles either within an association/company/agency or on Boa
 rds and\nCommittees\n\nAnd, men may attend too!\n\nCost: $226.00 ($200
  plus $26.00 HST) per person after September 10, 2010\n\nFor more info
 rmation visit https://ontag.farms.com/events/women-in-agribusiness
DTSTART;TZID=Pacific/Midway:20101013T000000
DTEND;TZID=Pacific/Midway:20101013T235900
CATEGORIES:symposium
LOCATION:Springfield Golf & Country Club
WEBSITE:
URL:
CONTACT:
ORGANIZER:For more information: susan.tfio@sympatico.ca
ATTACH;FMTTYPE="image/jpeg":
ATTENDEE;ROLE=REQ-PARTICIPANT;PARTSTAT=ACCEPTED;RSVP=TRUE;CN="Kay Scha
 ltz":https://ontag.farms.com/profile/KaySchaltz
ATTENDEE;ROLE=REQ-PARTICIPANT;PARTSTAT=ACCEPTED;RSVP=TRUE;CN="Sandra D
 ales":https://ontag.farms.com/profile/SandraDales
END:VEVENT
END:VCALENDAR
