BEGIN:VCALENDAR
PRODID:NingEventWidget-v1
VERSION:2.0
METHOD:PUBLISH
BEGIN:VTIMEZONE
TZID:Pacific/Midway
X-LIC-LOCATION:Pacific/Midway
BEGIN:STANDARD
TZOFFSETFROM:-1100
TZOFFSETTO:-1100
TZNAME:SST
DTSTART:19700101T000000
END:STANDARD
END:VTIMEZONE
BEGIN:VEVENT
UID:3646443:Event:74171
DTSTAMP:20260422T014502Z
SUMMARY:Women in Grains Business Workshop
DESCRIPTION:The Women in Grains Business Workshop in New Liskeard will
  not disappoint!\r\nCome out for two days of learning about financialÂ
  management, whole farm risk assessment, grain marketing, discussion o
 f mental health and much more! Curious what previous participants said
  from Belleville?\r\nTopics will include:\r\nFinancial Analysis I - Be
 tter understand your costs of production, setting profitability goals,
  and target prices for marketing grain with the help of a step-by-step
  grain marketing plan.\r\nWhole Farm Risk Assessment - Rob Hannam from
  Synthesis Agri-food Network covering how to assess risks impacting yo
 ur operation from a \"whole farm\" perspective and creating a plan to 
 improve your risk management.\r\nGrain Marketing - Improve the average
  selling price for your grain with tips, tools, and group discussion.\
 r\nMental Health Discussion - Introducing resources and tools for conv
 ersations regarding wellness, illness, and resiliency of your mental h
 ealth.\r\nFinancial Analysis II - Understanding financial statements, 
 monitoring the health of your farm, and strategies for working better 
 with your banker.\r\nBased on a Farm Strategy Roadmap tailored for you
 r operation, join for two days of practical, actionable learning that 
 will leave you with good understanding and new insights into the busin
 ess side of your farm operation.\r\nAlso, join for a tour of the Grant
  Ag Corp grain elevator!\r\nREFUND POLICY\r\n\r\nRefunds up to 7 days 
 before event\r\nContact Ashley Honsberger at the Agri-food Management 
 Institute for more information:\r\nashley[at]takeanewapproach.ca\r\n\r
 \nÂ \n\nFor more information visit https://ontag.farms.com/events/wome
 n-in-grains-business-workshop
DTSTART;TZID=Pacific/Midway:20190124T090000
DTEND;TZID=Pacific/Midway:20190125T150000
CATEGORIES:business, workshop
LOCATION:Grant Ag Corp Office Meeting Room
WEBSITE:https://www.eventbrite.com/e/women-in-grains-business-workshop
 -new-liskeard-tickets-53097700652?aff=ebdssbeac
URL:https://www.eventbrite.com/e/women-in-grains-business-workshop-new
 -liskeard-tickets-53097700652?aff=ebdssbeac
CONTACT:
ORGANIZER:Agri-food Management Institute
ATTACH;FMTTYPE="image/jpeg":https://storage.ning.com/topology/rest/1.0
 /file/get/362904959?profile=original
ATTENDEE;ROLE=REQ-PARTICIPANT;PARTSTAT=ACCEPTED;RSVP=TRUE;CN="OntAG Ad
 min":https://ontag.farms.com/profile/OntAGAdmin
END:VEVENT
END:VCALENDAR
