BEGIN:VCALENDAR
PRODID:NingEventWidget-v1
VERSION:2.0
METHOD:PUBLISH
BEGIN:VTIMEZONE
TZID:Pacific/Midway
X-LIC-LOCATION:Pacific/Midway
BEGIN:STANDARD
TZOFFSETFROM:-1100
TZOFFSETTO:-1100
TZNAME:SST
DTSTART:19700101T000000
END:STANDARD
END:VTIMEZONE
BEGIN:VEVENT
UID:3646443:Event:6663
DTSTAMP:20260421T110405Z
SUMMARY:Women’s Institute London Area Convention
DESCRIPTION:Women’s Institute London Area Convention\n\nHolmesville 
 Community Hall\n\nFor more information visit https://ontag.farms.com/e
 vents/womens-institute-london-area
DTSTART;TZID=Pacific/Midway:20101014T180000
DTEND;TZID=Pacific/Midway:20101014T190000
CATEGORIES:convention
LOCATION:London
WEBSITE:
URL:
CONTACT:
ORGANIZER:
ATTACH;FMTTYPE="image/jpeg":
ATTENDEE;ROLE=REQ-PARTICIPANT;PARTSTAT=ACCEPTED;RSVP=TRUE;CN="OntAG Ad
 min":https://ontag.farms.com/profile/OntAGAdmin
END:VEVENT
END:VCALENDAR
