BEGIN:VCALENDAR
PRODID:NingEventWidget-v1
VERSION:2.0
METHOD:PUBLISH
BEGIN:VTIMEZONE
TZID:Pacific/Midway
X-LIC-LOCATION:Pacific/Midway
BEGIN:STANDARD
TZOFFSETFROM:-1100
TZOFFSETTO:-1100
TZNAME:SST
DTSTART:19700101T000000
END:STANDARD
END:VTIMEZONE
BEGIN:VEVENT
UID:3646443:Event:56488
DTSTAMP:20260421T023318Z
SUMMARY:Young Farmer Tailgate Social (Canada’s Outdoor Farm Show)
DESCRIPTION:Join us at the Ontario Federation of Agriculture (OFA) You
 ng Farmer Tailgate Social Tuesday, September 9 from 5-7 p.m. to unwind
  after your day at Canada’s Outdoor Farm Show.  The event is hosted 
 by OFA at OFA's 'Federation House' located at the corner of Upper Mach
 inery Mall & 7th Lane North. The tailgate social is open to all young 
 and beginning farmers. We invite you to join us for a complimentary pu
 lled pork sandwich, refreshments and best of all conversation with fel
 low young farmers and OFA representatives.\n\nFor more information vis
 it https://ontag.farms.com/events/young-farmer-tailgate-social-canada-
 s-outdoor-farm-show
DTSTART;TZID=Pacific/Midway:20140909T170000
DTEND;TZID=Pacific/Midway:20140909T190000
CATEGORIES:social
LOCATION:OFA’s ‘Federation House’ (corner of Upper Machinery Mal
 l & 7th Lane N.)
WEBSITE:
URL:
CONTACT:
ORGANIZER:Ontario Federation of Agriculture (OFA)
ATTACH;FMTTYPE="image/jpeg":http://storage.ning.com/topology/rest/1.0/
 file/get/1091531943?profile=original
ATTENDEE;ROLE=REQ-PARTICIPANT;PARTSTAT=ACCEPTED;RSVP=TRUE;CN="Amanda B
 rodhagen":https://ontag.farms.com/profile/AmandaBrodhagen
END:VEVENT
END:VCALENDAR
