BEGIN:VCALENDAR
PRODID:NingEventWidget-v1
VERSION:2.0
METHOD:PUBLISH
BEGIN:VTIMEZONE
TZID:Pacific/Midway
X-LIC-LOCATION:Pacific/Midway
BEGIN:STANDARD
TZOFFSETFROM:-1100
TZOFFSETTO:-1100
TZNAME:SST
DTSTART:19700101T000000
END:STANDARD
END:VTIMEZONE
BEGIN:VEVENT
UID:3646443:Event:62089
DTSTAMP:20260422T055706Z
SUMMARY:FarmSmart presents ZoneSmart: It’s All About The Maps! Field
  Demo Event
DESCRIPTION:FarmSmart presents ZoneSmart\nHow To Make Management Zones
 . It’s All About The Maps! \nDate:  Thursday, Sept 10, 2015 (Rain 
 Date Friday, Sept 11, 2015, watch website and twitter for updates)\nHo
 st Farm : Woodrill Farms, Guelph, ON\nTime: 9:00 am—5:00 pm\nField L
 ocation: 5006 Jones Baseline,  \nGuelph, ON (43°34'30.81\"N, 80°10'
 37.50\"W) ZoneSmart is a hands-on field day exploring Management Zones
 . The morning group sessions will rotate through the four pillars of z
 one creation: Yield, Elevation, Soil and Remote Sensing.\nDuring lunch
  we will explore the integration of the Yield, Elevation, Soil and Rem
 ote Sensing maps discussed in the morning sessions that lead to the cr
 eation of management zones and how to apply prescriptions to optimize 
 field performance.After lunch we will:\n\nParticipate in field visits 
 to the various management zones created for this host field and discus
 s prescription options.\nexplore how to manage big data, including bes
 t practices and tips\nspend time in active and static precision ag equ
 ipment demos and discussions \n\nOSCIA members $75\nNon-members $110 
 (includes 1 year membership)!\nPre-registration only, Closing: Tuesday
  Sept 8, 2015\nInformation and Registration @\nwww.farmsmartconference
 .com\n1-877-424-1300 Program Details\n\nFor more information visit ht
 tps://ontag.farms.com/events/zonesmart-it-s-all-about-the-maps
DTSTART;TZID=Pacific/Midway:20150910T090000
DTEND;TZID=Pacific/Midway:20150910T170000
CATEGORIES:meeting
LOCATION:Woodrill Farms, 5006 Jones Baseline
WEBSITE:http://farmsmartconference.com/
URL:http://farmsmartconference.com/
CONTACT:1-877-424-1300
ORGANIZER;CN="OntAG Admin":https://ontag.farms.com/profile/OntAGAdmin
ATTACH;FMTTYPE="image/jpeg":http://storage.ning.com/topology/rest/1.0/
 file/get/1091543660?profile=original
ATTENDEE;ROLE=REQ-PARTICIPANT;PARTSTAT=ACCEPTED;RSVP=TRUE;CN="Joe Dale
 s":https://ontag.farms.com/profile/JoeDales
ATTENDEE;ROLE=REQ-PARTICIPANT;PARTSTAT=ACCEPTED;RSVP=TRUE;CN="OntAG Ad
 min":https://ontag.farms.com/profile/OntAGAdmin
END:VEVENT
END:VCALENDAR
